BEGIN:VCALENDAR
VERSION:2.0
PRODID:-//Stoke Seniors - ECPv6.15.17.1//NONSGML v1.0//EN
CALSCALE:GREGORIAN
METHOD:PUBLISH
X-WR-CALNAME:Stoke Seniors
X-ORIGINAL-URL:https://stokeseniors.com
X-WR-CALDESC:Events for Stoke Seniors
REFRESH-INTERVAL;VALUE=DURATION:PT1H
X-Robots-Tag:noindex
X-PUBLISHED-TTL:PT1H
BEGIN:VTIMEZONE
TZID:Europe/Paris
BEGIN:DAYLIGHT
TZOFFSETFROM:+0100
TZOFFSETTO:+0200
TZNAME:CEST
DTSTART:20250330T010000
END:DAYLIGHT
BEGIN:STANDARD
TZOFFSETFROM:+0200
TZOFFSETTO:+0100
TZNAME:CET
DTSTART:20251026T010000
END:STANDARD
BEGIN:DAYLIGHT
TZOFFSETFROM:+0100
TZOFFSETTO:+0200
TZNAME:CEST
DTSTART:20260329T010000
END:DAYLIGHT
BEGIN:STANDARD
TZOFFSETFROM:+0200
TZOFFSETTO:+0100
TZNAME:CET
DTSTART:20261025T010000
END:STANDARD
BEGIN:DAYLIGHT
TZOFFSETFROM:+0100
TZOFFSETTO:+0200
TZNAME:CEST
DTSTART:20270328T010000
END:DAYLIGHT
BEGIN:STANDARD
TZOFFSETFROM:+0200
TZOFFSETTO:+0100
TZNAME:CET
DTSTART:20271031T010000
END:STANDARD
END:VTIMEZONE
BEGIN:VTIMEZONE
TZID:UTC
BEGIN:STANDARD
TZOFFSETFROM:+0000
TZOFFSETTO:+0000
TZNAME:UTC
DTSTART:20250101T000000
END:STANDARD
END:VTIMEZONE
BEGIN:VEVENT
DTSTART;TZID=Europe/Paris:20260424T080000
DTEND;TZID=Europe/Paris:20260424T170000
DTSTAMP:20260424T040656
CREATED:20250914T113301Z
LAST-MODIFIED:20260409T133704Z
UID:21856-1777017600-1777050000@stokeseniors.com
SUMMARY:Inter Club Match v The Warren - Away
DESCRIPTION:
URL:https://stokeseniors.com/event/inter-club-match-v-the-warren-away-4/
END:VEVENT
BEGIN:VEVENT
DTSTART;TZID=Europe/Paris:20260429T083200
DTEND;TZID=Europe/Paris:20260429T170000
DTSTAMP:20260424T040656
CREATED:20250913T150019Z
LAST-MODIFIED:20250913T150019Z
UID:21808-1777451520-1777482000@stokeseniors.com
SUMMARY:American Greensomes - Gainsborough
DESCRIPTION:
URL:https://stokeseniors.com/event/american-greensomes-gainsborough-2/
END:VEVENT
BEGIN:VEVENT
DTSTART;TZID=Europe/Paris:20260430T080000
DTEND;TZID=Europe/Paris:20260430T170000
DTSTAMP:20260424T040656
CREATED:20250914T113331Z
LAST-MODIFIED:20260417T210342Z
UID:21858-1777536000-1777568400@stokeseniors.com
SUMMARY:Inter Club Match v Gosfield - Away
DESCRIPTION:
URL:https://stokeseniors.com/event/inter-club-match-v-gosfield-away-4/
END:VEVENT
BEGIN:VEVENT
DTSTART;TZID=Europe/Paris:20260506T080000
DTEND;TZID=Europe/Paris:20260506T170000
DTSTAMP:20260424T040656
CREATED:20250917T091250Z
LAST-MODIFIED:20260420T191819Z
UID:21913-1778054400-1778086800@stokeseniors.com
SUMMARY:Inter Club Match v Hintlesham - Constable
DESCRIPTION:
URL:https://stokeseniors.com/event/inter-club-match-v-hintlesham-constable-2/
END:VEVENT
BEGIN:VEVENT
DTSTART;TZID=Europe/Paris:20260508T083200
DTEND;TZID=Europe/Paris:20260508T170000
DTSTAMP:20260424T040656
CREATED:20251114T112340Z
LAST-MODIFIED:20251114T112340Z
UID:22701-1778229120-1778259600@stokeseniors.com
SUMMARY:Wednesday Swindle - Gainsborough
DESCRIPTION:
URL:https://stokeseniors.com/event/wednesday-swindle-gainsborough-62/
END:VEVENT
BEGIN:VEVENT
DTSTART;TZID=UTC:20260512T080000
DTEND;TZID=UTC:20260512T170000
DTSTAMP:20260424T040656
CREATED:20250515T203632Z
LAST-MODIFIED:20250522T110320Z
UID:20213-1778572800-1778605200@stokeseniors.com
SUMMARY:VC Tour - Dunston Hall
DESCRIPTION:
URL:https://stokeseniors.com/event/vc-tour-dunston-hall/
END:VEVENT
BEGIN:VEVENT
DTSTART;TZID=UTC:20260513T080000
DTEND;TZID=UTC:20260513T170000
DTSTAMP:20260424T040656
CREATED:20250515T203707Z
LAST-MODIFIED:20250522T110345Z
UID:20215-1778659200-1778691600@stokeseniors.com
SUMMARY:VC Tour - Dunston Hall
DESCRIPTION:
URL:https://stokeseniors.com/event/vc-tour-dunston-hall-2/
END:VEVENT
BEGIN:VEVENT
DTSTART;TZID=UTC:20260514T080000
DTEND;TZID=UTC:20260514T170000
DTSTAMP:20260424T040656
CREATED:20250515T203731Z
LAST-MODIFIED:20250522T110407Z
UID:20217-1778745600-1778778000@stokeseniors.com
SUMMARY:VC Tour - Dunston Hall
DESCRIPTION:
URL:https://stokeseniors.com/event/vc-tour-dunston-hall-3/
END:VEVENT
BEGIN:VEVENT
DTSTART;TZID=Europe/Paris:20260518T083200
DTEND;TZID=Europe/Paris:20260518T170000
DTSTAMP:20260424T040656
CREATED:20250913T144915Z
LAST-MODIFIED:20250913T144915Z
UID:21786-1779093120-1779123600@stokeseniors.com
SUMMARY:Monthly Stableford & Captain's Prize - Gainsborough
DESCRIPTION:
URL:https://stokeseniors.com/event/monthly-stableford-captains-prize-gainsborough-4/
END:VEVENT
BEGIN:VEVENT
DTSTART;TZID=Europe/Paris:20260520T080000
DTEND;TZID=Europe/Paris:20260520T170000
DTSTAMP:20260424T040656
CREATED:20250917T091322Z
LAST-MODIFIED:20250917T091322Z
UID:21915-1779264000-1779296400@stokeseniors.com
SUMMARY:Inter Club Match v Brett Vale - Constable
DESCRIPTION:
URL:https://stokeseniors.com/event/inter-club-match-v-brett-vale-constable/
END:VEVENT
BEGIN:VEVENT
DTSTART;TZID=Europe/Paris:20260521T180000
DTEND;TZID=Europe/Paris:20260521T180000
DTSTAMP:20260424T040656
CREATED:20260410T165246Z
LAST-MODIFIED:20260410T165309Z
UID:23495-1779386400-1779386400@stokeseniors.com
SUMMARY:PSA Testing - YOU KNOW IT MAKES SENSE
DESCRIPTION:
URL:https://stokeseniors.com/event/psa-testing-you-know-it-makes-sense/
END:VEVENT
BEGIN:VEVENT
DTSTART;TZID=Europe/Paris:20260522T083200
DTEND;TZID=Europe/Paris:20260522T170000
DTSTAMP:20260424T040656
CREATED:20251114T112419Z
LAST-MODIFIED:20251114T112419Z
UID:22703-1779438720-1779469200@stokeseniors.com
SUMMARY:Wednesday Swindle - Gainsborough
DESCRIPTION:
URL:https://stokeseniors.com/event/wednesday-swindle-gainsborough-63/
END:VEVENT
BEGIN:VEVENT
DTSTART;TZID=Europe/Paris:20260526T080000
DTEND;TZID=Europe/Paris:20260526T170000
DTSTAMP:20260424T040656
CREATED:20250914T113404Z
LAST-MODIFIED:20250914T113404Z
UID:21860-1779782400-1779814800@stokeseniors.com
SUMMARY:Inter Club Match v Haverhill - Away
DESCRIPTION:
URL:https://stokeseniors.com/event/inter-club-match-v-haverhill-away-4/
END:VEVENT
BEGIN:VEVENT
DTSTART;TZID=Europe/Paris:20260527T083200
DTEND;TZID=Europe/Paris:20260527T170000
DTSTAMP:20260424T040656
CREATED:20250913T150152Z
LAST-MODIFIED:20250913T150152Z
UID:21810-1779870720-1779901200@stokeseniors.com
SUMMARY:Veterans Cup - Club Competition - Gainsborough
DESCRIPTION:
URL:https://stokeseniors.com/event/veterans-cup-club-competition-gainsborough-2/
END:VEVENT
BEGIN:VEVENT
DTSTART;TZID=Europe/Paris:20260529T080000
DTEND;TZID=Europe/Paris:20260529T170000
DTSTAMP:20260424T040656
CREATED:20250914T113434Z
LAST-MODIFIED:20250914T113434Z
UID:21862-1780041600-1780074000@stokeseniors.com
SUMMARY:Inter Club Match v Braintree - Away
DESCRIPTION:
URL:https://stokeseniors.com/event/inter-club-match-v-braintree-away-3/
END:VEVENT
BEGIN:VEVENT
DTSTART;TZID=Europe/Paris:20260603T083200
DTEND;TZID=Europe/Paris:20260603T170000
DTSTAMP:20260424T040656
CREATED:20250913T150232Z
LAST-MODIFIED:20250913T150232Z
UID:21812-1780475520-1780506000@stokeseniors.com
SUMMARY:Seniors Championship Round 1 - Constable
DESCRIPTION:
URL:https://stokeseniors.com/event/seniors-championship-round-1-constable-3/
END:VEVENT
BEGIN:VEVENT
DTSTART;TZID=Europe/Paris:20260605T080000
DTEND;TZID=Europe/Paris:20260605T170000
DTSTAMP:20260424T040656
CREATED:20250914T113502Z
LAST-MODIFIED:20250914T113502Z
UID:21864-1780646400-1780678800@stokeseniors.com
SUMMARY:Inter Club Match v Frinton - Away
DESCRIPTION:
URL:https://stokeseniors.com/event/inter-club-match-v-frinton-away-4/
END:VEVENT
BEGIN:VEVENT
DTSTART;TZID=Europe/Paris:20260609T080000
DTEND;TZID=Europe/Paris:20260609T170000
DTSTAMP:20260424T040656
CREATED:20250914T113531Z
LAST-MODIFIED:20250914T113531Z
UID:21866-1780992000-1781024400@stokeseniors.com
SUMMARY:Inter Club Match v Colne Valley - Away
DESCRIPTION:
URL:https://stokeseniors.com/event/inter-club-match-v-colne-valley-away/
END:VEVENT
BEGIN:VEVENT
DTSTART;TZID=Europe/Paris:20260610T083200
DTEND;TZID=Europe/Paris:20260610T170000
DTSTAMP:20260424T040656
CREATED:20250913T150318Z
LAST-MODIFIED:20250913T150318Z
UID:21814-1781080320-1781110800@stokeseniors.com
SUMMARY:Seniors Championship Round 2 - Gainsborough
DESCRIPTION:
URL:https://stokeseniors.com/event/seniors-championship-round-2-gainsborough-3/
END:VEVENT
BEGIN:VEVENT
DTSTART;TZID=Europe/Paris:20260612T080000
DTEND;TZID=Europe/Paris:20260612T170000
DTSTAMP:20260424T040656
CREATED:20250914T113558Z
LAST-MODIFIED:20250914T113558Z
UID:21868-1781251200-1781283600@stokeseniors.com
SUMMARY:Inter Club Match v Felixstowe - Away
DESCRIPTION:
URL:https://stokeseniors.com/event/inter-club-match-v-felixstowe-away-4/
END:VEVENT
BEGIN:VEVENT
DTSTART;TZID=Europe/Paris:20260615T080000
DTEND;TZID=Europe/Paris:20260615T170000
DTSTAMP:20260424T040656
CREATED:20250917T090739Z
LAST-MODIFIED:20250917T090739Z
UID:21897-1781510400-1781542800@stokeseniors.com
SUMMARY:Inter Club Match v Benton Hall - Gainsborough
DESCRIPTION:
URL:https://stokeseniors.com/event/inter-club-match-v-benton-hall-gainsborough/
END:VEVENT
BEGIN:VEVENT
DTSTART;TZID=Europe/Paris:20260617T083200
DTEND;TZID=Europe/Paris:20260617T170000
DTSTAMP:20260424T040656
CREATED:20250913T145223Z
LAST-MODIFIED:20250913T145223Z
UID:21792-1781685120-1781715600@stokeseniors.com
SUMMARY:Monthly Stableford - Constable
DESCRIPTION:
URL:https://stokeseniors.com/event/monthly-stableford-constable-14/
END:VEVENT
BEGIN:VEVENT
DTSTART;TZID=Europe/Paris:20260624T080000
DTEND;TZID=Europe/Paris:20260624T170000
DTSTAMP:20260424T040656
CREATED:20250917T090810Z
LAST-MODIFIED:20250917T090810Z
UID:21899-1782288000-1782320400@stokeseniors.com
SUMMARY:Inter Club Match v Gosfield - Gainsborough
DESCRIPTION:
URL:https://stokeseniors.com/event/inter-club-match-v-gosfield-gainsborough-4/
END:VEVENT
BEGIN:VEVENT
DTSTART;TZID=Europe/Paris:20260713T080000
DTEND;TZID=Europe/Paris:20260713T170000
DTSTAMP:20260424T040656
CREATED:20250914T113627Z
LAST-MODIFIED:20250914T113627Z
UID:21870-1783929600-1783962000@stokeseniors.com
SUMMARY:Inter Club Match v Benton Hall - Away
DESCRIPTION:
URL:https://stokeseniors.com/event/inter-club-match-v-benton-hall-away-4/
END:VEVENT
BEGIN:VEVENT
DTSTART;TZID=Europe/Paris:20260715T083200
DTEND;TZID=Europe/Paris:20260715T170000
DTSTAMP:20260424T040656
CREATED:20250913T145314Z
LAST-MODIFIED:20250913T145314Z
UID:21794-1784104320-1784134800@stokeseniors.com
SUMMARY:Monthly Stableford & President's Prize - Constable
DESCRIPTION:
URL:https://stokeseniors.com/event/monthly-stableford-presidents-prize-constable-4/
END:VEVENT
BEGIN:VEVENT
DTSTART;TZID=Europe/Paris:20260722T080000
DTEND;TZID=Europe/Paris:20260722T170000
DTSTAMP:20260424T040656
CREATED:20250917T090849Z
LAST-MODIFIED:20250917T090849Z
UID:21901-1784707200-1784739600@stokeseniors.com
SUMMARY:Inter Club Match v Stowmarket - Gainsborough
DESCRIPTION:
URL:https://stokeseniors.com/event/inter-club-match-v-stowmarket-gainsborough/
END:VEVENT
BEGIN:VEVENT
DTSTART;TZID=Europe/Paris:20260727T083200
DTEND;TZID=Europe/Paris:20260727T170000
DTSTAMP:20260424T040656
CREATED:20250913T150452Z
LAST-MODIFIED:20250913T150452Z
UID:21816-1785141120-1785171600@stokeseniors.com
SUMMARY:Senior Captain's Charity Day - Gainsborough
DESCRIPTION:
URL:https://stokeseniors.com/event/senior-captains-charity-day-gainsborough-2/
END:VEVENT
BEGIN:VEVENT
DTSTART;TZID=Europe/Paris:20260729T080000
DTEND;TZID=Europe/Paris:20260729T170000
DTSTAMP:20260424T040656
CREATED:20250917T090259Z
LAST-MODIFIED:20250917T092820Z
UID:21887-1785312000-1785344400@stokeseniors.com
SUMMARY:Inter Club Match v Hintlesham - Away
DESCRIPTION:
URL:https://stokeseniors.com/event/inter-club-match-v-hintlesham-away-4/
END:VEVENT
BEGIN:VEVENT
DTSTART;TZID=Europe/Paris:20260803T083200
DTEND;TZID=Europe/Paris:20260803T170000
DTSTAMP:20260424T040656
CREATED:20250913T145343Z
LAST-MODIFIED:20250913T145343Z
UID:21796-1785745920-1785776400@stokeseniors.com
SUMMARY:Monthly Stableford - Constable
DESCRIPTION:
URL:https://stokeseniors.com/event/monthly-stableford-constable-15/
END:VEVENT
BEGIN:VEVENT
DTSTART;TZID=Europe/Paris:20260807T080000
DTEND;TZID=Europe/Paris:20260807T170000
DTSTAMP:20260424T040656
CREATED:20250917T091413Z
LAST-MODIFIED:20250917T091413Z
UID:21917-1786089600-1786122000@stokeseniors.com
SUMMARY:Inter Club Match v Felixstowe - Constable
DESCRIPTION:
URL:https://stokeseniors.com/event/inter-club-match-v-felixstowe-constable-2/
END:VEVENT
END:VCALENDAR