BEGIN:VCALENDAR
VERSION:2.0
PRODID:-//Stoke Seniors - ECPv6.15.17.1//NONSGML v1.0//EN
CALSCALE:GREGORIAN
METHOD:PUBLISH
X-ORIGINAL-URL:https://stokeseniors.com
X-WR-CALDESC:Events for Stoke Seniors
REFRESH-INTERVAL;VALUE=DURATION:PT1H
X-Robots-Tag:noindex
X-PUBLISHED-TTL:PT1H
BEGIN:VTIMEZONE
TZID:UTC
BEGIN:STANDARD
TZOFFSETFROM:+0000
TZOFFSETTO:+0000
TZNAME:UTC
DTSTART:20240101T000000
END:STANDARD
END:VTIMEZONE
BEGIN:VEVENT
DTSTART;TZID=UTC:20250423T083200
DTEND;TZID=UTC:20250423T170000
DTSTAMP:20260424T221507
CREATED:20241128T123203Z
LAST-MODIFIED:20241128T123203Z
UID:18446-1745397120-1745427600@stokeseniors.com
SUMMARY:Wednesday Swindle - Gainsborough
DESCRIPTION:
URL:https://stokeseniors.com/event/wednesday-swindle-gainsborough-42/
END:VEVENT
BEGIN:VEVENT
DTSTART;TZID=UTC:20250416T083200
DTEND;TZID=UTC:20250416T170000
DTSTAMP:20260424T221507
CREATED:20241128T124107Z
LAST-MODIFIED:20241128T124107Z
UID:18484-1744792320-1744822800@stokeseniors.com
SUMMARY:Wednesday Swindle - Constable
DESCRIPTION:
URL:https://stokeseniors.com/event/wednesday-swindle-constable-52/
END:VEVENT
BEGIN:VEVENT
DTSTART;TZID=UTC:20250414T080000
DTEND;TZID=UTC:20250414T170000
DTSTAMP:20260424T221507
CREATED:20241001T120238Z
LAST-MODIFIED:20250402T190918Z
UID:17225-1744617600-1744650000@stokeseniors.com
SUMMARY:Inter Club Match v Colchester - Away
DESCRIPTION:
URL:https://stokeseniors.com/event/inter-club-match-v-colchester-away-3/
END:VEVENT
BEGIN:VEVENT
DTSTART;TZID=UTC:20250411T090000
DTEND;TZID=UTC:20250411T170000
DTSTAMP:20260424T221507
CREATED:20250317T191225Z
LAST-MODIFIED:20250317T191405Z
UID:19455-1744362000-1744390800@stokeseniors.com
SUMMARY:Essex Team Championship v Forrester Park - Away
DESCRIPTION:
URL:https://stokeseniors.com/event/essex-team-championship-v-forrester-park-16th-april/
END:VEVENT
BEGIN:VEVENT
DTSTART;TZID=UTC:20250409T083200
DTEND;TZID=UTC:20250409T170000
DTSTAMP:20260424T221507
CREATED:20241001T101016Z
LAST-MODIFIED:20250409T155408Z
UID:17132-1744187520-1744218000@stokeseniors.com
SUMMARY:Monthly Stableford - Constable
DESCRIPTION:
URL:https://stokeseniors.com/event/monthly-stableford-constable-11/
END:VEVENT
BEGIN:VEVENT
DTSTART;TZID=UTC:20250408T080000
DTEND;TZID=UTC:20250408T170000
DTSTAMP:20260424T221507
CREATED:20241001T120201Z
LAST-MODIFIED:20250318T084444Z
UID:17223-1744099200-1744131600@stokeseniors.com
SUMMARY:Inter Club Match v Brett Vale - Away
DESCRIPTION:
URL:https://stokeseniors.com/event/inter-club-match-v-brett-vale-away-3/
END:VEVENT
BEGIN:VEVENT
DTSTART;TZID=UTC:20250407T083200
DTEND;TZID=UTC:20250407T170000
DTSTAMP:20260424T221507
CREATED:20241128T123135Z
LAST-MODIFIED:20241128T123135Z
UID:18444-1744014720-1744045200@stokeseniors.com
SUMMARY:Wednesday Swindle - Gainsborough
DESCRIPTION:
URL:https://stokeseniors.com/event/wednesday-swindle-gainsborough-41/
END:VEVENT
BEGIN:VEVENT
DTSTART;TZID=UTC:20250407T080000
DTEND;TZID=UTC:20250407T170000
DTSTAMP:20260424T221507
CREATED:20250316T102102Z
LAST-MODIFIED:20250316T102102Z
UID:19409-1744012800-1744045200@stokeseniors.com
SUMMARY:John Day Trophy v Royal Epping - Away
DESCRIPTION:
URL:https://stokeseniors.com/event/john-day-trophy-v-royal-epping-away/
END:VEVENT
BEGIN:VEVENT
DTSTART;TZID=UTC:20250404T180000
DTEND;TZID=UTC:20250404T180000
DTSTAMP:20260424T221507
CREATED:20250316T103027Z
LAST-MODIFIED:20250316T103101Z
UID:19431-1743789600-1743789600@stokeseniors.com
SUMMARY:Friday Night Mixed
DESCRIPTION:
URL:https://stokeseniors.com/event/friday-night-mixed-6/
END:VEVENT
BEGIN:VEVENT
DTSTART;TZID=UTC:20250404T083200
DTEND;TZID=UTC:20250404T170000
DTSTAMP:20260424T221507
CREATED:20241128T124044Z
LAST-MODIFIED:20241128T124044Z
UID:18482-1743755520-1743786000@stokeseniors.com
SUMMARY:Wednesday Swindle - Constable
DESCRIPTION:
URL:https://stokeseniors.com/event/wednesday-swindle-constable-51/
END:VEVENT
BEGIN:VEVENT
DTSTART;TZID=UTC:20250402T080000
DTEND;TZID=UTC:20250402T170000
DTSTAMP:20260424T221507
CREATED:20241001T120925Z
LAST-MODIFIED:20250313T093123Z
UID:17249-1743580800-1743613200@stokeseniors.com
SUMMARY:Inter Club Match v The Warren - Gainsborough
DESCRIPTION:
URL:https://stokeseniors.com/event/inter-club-match-v-the-warren-gainsborough-3/
END:VEVENT
BEGIN:VEVENT
DTSTART;TZID=UTC:20250328T080000
DTEND;TZID=UTC:20250328T170000
DTSTAMP:20260424T221507
CREATED:20241001T120130Z
LAST-MODIFIED:20250312T205309Z
UID:17221-1743148800-1743181200@stokeseniors.com
SUMMARY:Inter Club Match v Ipswich - Away
DESCRIPTION:
URL:https://stokeseniors.com/event/inter-club-match-v-ipswich-away-2/
END:VEVENT
BEGIN:VEVENT
DTSTART;TZID=UTC:20250326T083200
DTEND;TZID=UTC:20250326T170000
DTSTAMP:20260424T221507
CREATED:20241128T124021Z
LAST-MODIFIED:20241128T124021Z
UID:18480-1742977920-1743008400@stokeseniors.com
SUMMARY:Wednesday Swindle - Constable
DESCRIPTION:
URL:https://stokeseniors.com/event/wednesday-swindle-constable-50/
END:VEVENT
BEGIN:VEVENT
DTSTART;TZID=UTC:20250326T080000
DTEND;TZID=UTC:20250326T170000
DTSTAMP:20260424T221507
CREATED:20241001T120844Z
LAST-MODIFIED:20250224T085453Z
UID:17247-1742976000-1743008400@stokeseniors.com
SUMMARY:Inter Club Match v Colchester - Gainsborough
DESCRIPTION:
URL:https://stokeseniors.com/event/inter-club-match-v-colchester-gainsborough-2/
END:VEVENT
BEGIN:VEVENT
DTSTART;TZID=UTC:20250320T080000
DTEND;TZID=UTC:20250320T170000
DTSTAMP:20260424T221507
CREATED:20241001T120056Z
LAST-MODIFIED:20250220T193205Z
UID:17219-1742457600-1742490000@stokeseniors.com
SUMMARY:Inter Club Match v Newton Green - Away
DESCRIPTION:
URL:https://stokeseniors.com/event/inter-club-match-v-newton-green-away-3/
END:VEVENT
BEGIN:VEVENT
DTSTART;TZID=UTC:20250314T083200
DTEND;TZID=UTC:20250314T170000
DTSTAMP:20260424T221507
CREATED:20241128T123107Z
LAST-MODIFIED:20241128T123107Z
UID:18442-1741941120-1741971600@stokeseniors.com
SUMMARY:Wednesday Swindle - Gainsborough
DESCRIPTION:
URL:https://stokeseniors.com/event/wednesday-swindle-gainsborough-40/
END:VEVENT
BEGIN:VEVENT
DTSTART;TZID=UTC:20250312T083200
DTEND;TZID=UTC:20250312T170000
DTSTAMP:20260424T221507
CREATED:20241001T102153Z
LAST-MODIFIED:20250210T162101Z
UID:17154-1741768320-1741798800@stokeseniors.com
SUMMARY:Mike More Scramble - Gainsborough
DESCRIPTION:
URL:https://stokeseniors.com/event/mike-more-scramble-gainsborough/
END:VEVENT
BEGIN:VEVENT
DTSTART;TZID=UTC:20250311T080000
DTEND;TZID=UTC:20250311T170000
DTSTAMP:20260424T221507
CREATED:20241001T120013Z
LAST-MODIFIED:20250220T191429Z
UID:17217-1741680000-1741712400@stokeseniors.com
SUMMARY:Inter Club Match v Stowmarket - Away
DESCRIPTION:
URL:https://stokeseniors.com/event/inter-club-match-v-stowmarket-away-5/
END:VEVENT
BEGIN:VEVENT
DTSTART;TZID=UTC:20250307T083200
DTEND;TZID=UTC:20250307T170000
DTSTAMP:20260424T221507
CREATED:20241128T123041Z
LAST-MODIFIED:20241128T123041Z
UID:18440-1741336320-1741366800@stokeseniors.com
SUMMARY:Wednesday Swindle - Gainsborough
DESCRIPTION:
URL:https://stokeseniors.com/event/wednesday-swindle-gainsborough-39/
END:VEVENT
BEGIN:VEVENT
DTSTART;TZID=UTC:20250305T083200
DTEND;TZID=UTC:20250305T170000
DTSTAMP:20260424T221507
CREATED:20241001T100626Z
LAST-MODIFIED:20250206T094209Z
UID:17125-1741163520-1741194000@stokeseniors.com
SUMMARY:Monthly Stableford - Constable
DESCRIPTION:
URL:https://stokeseniors.com/event/monthly-stableford-gainsborough-6/
END:VEVENT
BEGIN:VEVENT
DTSTART;TZID=UTC:20250303T083200
DTEND;TZID=UTC:20250303T170000
DTSTAMP:20260424T221507
CREATED:20241128T123959Z
LAST-MODIFIED:20241128T123959Z
UID:18478-1740990720-1741021200@stokeseniors.com
SUMMARY:Wednesday Swindle - Constable
DESCRIPTION:
URL:https://stokeseniors.com/event/wednesday-swindle-constable-49/
END:VEVENT
BEGIN:VEVENT
DTSTART;TZID=UTC:20250224T083200
DTEND;TZID=UTC:20250224T170000
DTSTAMP:20260424T221507
CREATED:20241128T123934Z
LAST-MODIFIED:20241128T123934Z
UID:18476-1740385920-1740416400@stokeseniors.com
SUMMARY:Wednesday Swindle - Constable
DESCRIPTION:
URL:https://stokeseniors.com/event/wednesday-swindle-constable-48/
END:VEVENT
BEGIN:VEVENT
DTSTART;TZID=UTC:20250219T083200
DTEND;TZID=UTC:20250219T170000
DTSTAMP:20260424T221507
CREATED:20241128T123909Z
LAST-MODIFIED:20241128T123909Z
UID:18474-1739953920-1739984400@stokeseniors.com
SUMMARY:Wednesday Swindle - Constable
DESCRIPTION:
URL:https://stokeseniors.com/event/wednesday-swindle-constable-47/
END:VEVENT
BEGIN:VEVENT
DTSTART;TZID=UTC:20250217T083200
DTEND;TZID=UTC:20250217T170000
DTSTAMP:20260424T221507
CREATED:20241001T100910Z
LAST-MODIFIED:20250110T141251Z
UID:17130-1739781120-1739811600@stokeseniors.com
SUMMARY:Monthly Stableford - Gainsborough
DESCRIPTION:
URL:https://stokeseniors.com/event/monthly-stableford-gainsborough-8/
END:VEVENT
BEGIN:VEVENT
DTSTART;TZID=UTC:20250214T083200
DTEND;TZID=UTC:20250214T170000
DTSTAMP:20260424T221507
CREATED:20241128T123013Z
LAST-MODIFIED:20241128T123013Z
UID:18438-1739521920-1739552400@stokeseniors.com
SUMMARY:Wednesday Swindle - Gainsborough
DESCRIPTION:
URL:https://stokeseniors.com/event/wednesday-swindle-gainsborough-38/
END:VEVENT
BEGIN:VEVENT
DTSTART;TZID=UTC:20250212T083200
DTEND;TZID=UTC:20250212T170000
DTSTAMP:20260424T221507
CREATED:20241001T102102Z
LAST-MODIFIED:20250110T140549Z
UID:17152-1739349120-1739379600@stokeseniors.com
SUMMARY:3 Clubs & a Putter - Gainsborough
DESCRIPTION:
URL:https://stokeseniors.com/event/3-clubs-a-putter-gainsborough-2/
END:VEVENT
BEGIN:VEVENT
DTSTART;TZID=UTC:20250205T083200
DTEND;TZID=UTC:20250205T170000
DTSTAMP:20260424T221507
CREATED:20241001T102017Z
LAST-MODIFIED:20250110T135723Z
UID:17150-1738744320-1738774800@stokeseniors.com
SUMMARY:4 BBB - Gainsborough
DESCRIPTION:
URL:https://stokeseniors.com/event/4-bbb-gainsborough/
END:VEVENT
BEGIN:VEVENT
DTSTART;TZID=UTC:20250203T083200
DTEND;TZID=UTC:20250203T170000
DTSTAMP:20260424T221507
CREATED:20241128T123847Z
LAST-MODIFIED:20241128T123847Z
UID:18472-1738571520-1738602000@stokeseniors.com
SUMMARY:Wednesday Swindle - Constable
DESCRIPTION:
URL:https://stokeseniors.com/event/wednesday-swindle-constable-46/
END:VEVENT
BEGIN:VEVENT
DTSTART;TZID=UTC:20250129T083200
DTEND;TZID=UTC:20250129T170000
DTSTAMP:20260424T221507
CREATED:20241128T122945Z
LAST-MODIFIED:20241128T122945Z
UID:18436-1738139520-1738170000@stokeseniors.com
SUMMARY:Wednesday Swindle - Gainsborough
DESCRIPTION:
URL:https://stokeseniors.com/event/wednesday-swindle-gainsborough-37/
END:VEVENT
BEGIN:VEVENT
DTSTART;TZID=UTC:20250122T083200
DTEND;TZID=UTC:20250122T170000
DTSTAMP:20260424T221507
CREATED:20241128T122627Z
LAST-MODIFIED:20241128T122659Z
UID:18431-1737534720-1737565200@stokeseniors.com
SUMMARY:Wednesday Swindle - Gainsborough
DESCRIPTION:
URL:https://stokeseniors.com/event/wednesday-swindle-gainsborough-19/
END:VEVENT
END:VCALENDAR