BEGIN:VCALENDAR
VERSION:2.0
PRODID:-//Stoke Seniors - ECPv6.15.17.1//NONSGML v1.0//EN
CALSCALE:GREGORIAN
METHOD:PUBLISH
X-WR-CALNAME:Stoke Seniors
X-ORIGINAL-URL:https://stokeseniors.com
X-WR-CALDESC:Events for Stoke Seniors
REFRESH-INTERVAL;VALUE=DURATION:PT1H
X-Robots-Tag:noindex
X-PUBLISHED-TTL:PT1H
BEGIN:VTIMEZONE
TZID:UTC
BEGIN:STANDARD
TZOFFSETFROM:+0000
TZOFFSETTO:+0000
TZNAME:UTC
DTSTART:20230101T000000
END:STANDARD
END:VTIMEZONE
BEGIN:VEVENT
DTSTART;TZID=UTC:20241007T083200
DTEND;TZID=UTC:20241007T170000
DTSTAMP:20260425T054953
CREATED:20230420T075628Z
LAST-MODIFIED:20240910T082632Z
UID:6615-1728289920-1728320400@stokeseniors.com
SUMMARY:Monthly Stableford & Millennium Trophy- Gainsborough
DESCRIPTION:
URL:https://stokeseniors.com/event/monthly-stableford-millennium-trophy-gainsborough-2/
END:VEVENT
BEGIN:VEVENT
DTSTART;TZID=UTC:20241005T183000
DTEND;TZID=UTC:20241005T235900
DTSTAMP:20260425T054953
CREATED:20240811T152442Z
LAST-MODIFIED:20240811T152442Z
UID:16292-1728153000-1728172740@stokeseniors.com
SUMMARY:Captains Dinner
DESCRIPTION:
URL:https://stokeseniors.com/event/captains-dinner-2/
END:VEVENT
BEGIN:VEVENT
DTSTART;TZID=UTC:20241004T080000
DTEND;TZID=UTC:20241004T170000
DTSTAMP:20260425T054953
CREATED:20240822T125158Z
LAST-MODIFIED:20240822T125158Z
UID:16454-1728028800-1728061200@stokeseniors.com
SUMMARY:Wednesday Swindle - Constable
DESCRIPTION:
URL:https://stokeseniors.com/event/wednesday-swindle-constable-43/
END:VEVENT
BEGIN:VEVENT
DTSTART;TZID=UTC:20241002T083200
DTEND;TZID=UTC:20241002T170000
DTSTAMP:20260425T054953
CREATED:20230420T140905Z
LAST-MODIFIED:20240907T075631Z
UID:6660-1727857920-1727888400@stokeseniors.com
SUMMARY:St Andrews Greensomes - Gainsborough
DESCRIPTION:
URL:https://stokeseniors.com/event/st-andrews-greensomes-gainsborough-2/
END:VEVENT
BEGIN:VEVENT
DTSTART;TZID=UTC:20240925T080000
DTEND;TZID=UTC:20240925T170000
DTSTAMP:20260425T054953
CREATED:20240822T125051Z
LAST-MODIFIED:20240822T125051Z
UID:16448-1727251200-1727283600@stokeseniors.com
SUMMARY:Wednesday Swindle - Gainsborough
DESCRIPTION:
URL:https://stokeseniors.com/event/wednesday-swindle-gainsborough-33/
END:VEVENT
BEGIN:VEVENT
DTSTART;TZID=UTC:20240923T083200
DTEND;TZID=UTC:20240923T170000
DTSTAMP:20260425T054953
CREATED:20230420T142255Z
LAST-MODIFIED:20240905T072857Z
UID:6696-1727080320-1727110800@stokeseniors.com
SUMMARY:Inter Club Match v Clacton - Away
DESCRIPTION:
URL:https://stokeseniors.com/event/inter-club-match-v-clacton-away/
END:VEVENT
BEGIN:VEVENT
DTSTART;TZID=UTC:20240918T080000
DTEND;TZID=UTC:20240918T170000
DTSTAMP:20260425T054953
CREATED:20240822T125003Z
LAST-MODIFIED:20240822T125003Z
UID:16444-1726646400-1726678800@stokeseniors.com
SUMMARY:Wednesday Swindle - Constable
DESCRIPTION:
URL:https://stokeseniors.com/event/wednesday-swindle-constable-42/
END:VEVENT
BEGIN:VEVENT
DTSTART;TZID=UTC:20240918T080000
DTEND;TZID=UTC:20240918T170000
DTSTAMP:20260425T054953
CREATED:20231015T075832Z
LAST-MODIFIED:20240902T193246Z
UID:11075-1726646400-1726678800@stokeseniors.com
SUMMARY:Inter Club Match v The Essex - Away
DESCRIPTION:
URL:https://stokeseniors.com/event/inter-club-match-v-the-essex-away-2/
END:VEVENT
BEGIN:VEVENT
DTSTART;TZID=UTC:20240916T083200
DTEND;TZID=UTC:20240916T170000
DTSTAMP:20260425T054953
CREATED:20230420T140810Z
LAST-MODIFIED:20240904T184702Z
UID:6658-1726475520-1726506000@stokeseniors.com
SUMMARY:Suffolk v Essex - Gainsborough
DESCRIPTION:
URL:https://stokeseniors.com/event/suffolk-v-essex-gainsborough-2/
END:VEVENT
BEGIN:VEVENT
DTSTART;TZID=UTC:20240912T083200
DTEND;TZID=UTC:20240912T170000
DTSTAMP:20260425T054953
CREATED:20230916T084903Z
LAST-MODIFIED:20240902T072321Z
UID:10471-1726129920-1726160400@stokeseniors.com
SUMMARY:Inter Club Match v Braintree Home
DESCRIPTION:
URL:https://stokeseniors.com/event/inter-club-match-v-braintree-home/
END:VEVENT
BEGIN:VEVENT
DTSTART;TZID=UTC:20240911T080000
DTEND;TZID=UTC:20240911T170000
DTSTAMP:20260425T054953
CREATED:20240822T125033Z
LAST-MODIFIED:20240822T125033Z
UID:16446-1726041600-1726074000@stokeseniors.com
SUMMARY:Wednesday Swindle - Gainsborough
DESCRIPTION:
URL:https://stokeseniors.com/event/wednesday-swindle-gainsborough-32/
END:VEVENT
BEGIN:VEVENT
DTSTART;TZID=UTC:20240909T083200
DTEND;TZID=UTC:20240909T170000
DTSTAMP:20260425T054953
CREATED:20230420T080157Z
LAST-MODIFIED:20240904T150759Z
UID:6629-1725870720-1725901200@stokeseniors.com
SUMMARY:Monthly Stableford & Senior Cup - Constable
DESCRIPTION:
URL:https://stokeseniors.com/event/monthly-stableford-senior-cup-constable/
END:VEVENT
BEGIN:VEVENT
DTSTART;TZID=UTC:20240905T083200
DTEND;TZID=UTC:20240905T170000
DTSTAMP:20260425T054953
CREATED:20230420T142209Z
LAST-MODIFIED:20240821T211948Z
UID:6694-1725525120-1725555600@stokeseniors.com
SUMMARY:Inter Club Match v Newton Green - Away
DESCRIPTION:
URL:https://stokeseniors.com/event/inter-club-match-v-newton-green-away-2/
END:VEVENT
BEGIN:VEVENT
DTSTART;TZID=UTC:20240904T080000
DTEND;TZID=UTC:20240904T170000
DTSTAMP:20260425T054953
CREATED:20240822T124943Z
LAST-MODIFIED:20240822T124943Z
UID:16442-1725436800-1725469200@stokeseniors.com
SUMMARY:Wednesday Swindle - Constable
DESCRIPTION:
URL:https://stokeseniors.com/event/wednesday-swindle-constable-41/
END:VEVENT
BEGIN:VEVENT
DTSTART;TZID=UTC:20240830T083200
DTEND;TZID=UTC:20240830T170000
DTSTAMP:20260425T054953
CREATED:20240806T081547Z
LAST-MODIFIED:20240806T081547Z
UID:16161-1725006720-1725037200@stokeseniors.com
SUMMARY:Wednesday Swindle - Constable
DESCRIPTION:
URL:https://stokeseniors.com/event/wednesday-swindle-constable-40/
END:VEVENT
BEGIN:VEVENT
DTSTART;TZID=UTC:20240828T083200
DTEND;TZID=UTC:20240828T170000
DTSTAMP:20260425T054953
CREATED:20230420T143227Z
LAST-MODIFIED:20240811T122746Z
UID:6720-1724833920-1724864400@stokeseniors.com
SUMMARY:Inter Club Match v Haverhill - Home
DESCRIPTION:
URL:https://stokeseniors.com/event/inter-club-match-v-haverhill-constable-3/
END:VEVENT
BEGIN:VEVENT
DTSTART;TZID=UTC:20240823T080000
DTEND;TZID=UTC:20240823T170000
DTSTAMP:20260425T054953
CREATED:20231015T080250Z
LAST-MODIFIED:20240810T163823Z
UID:11081-1724400000-1724432400@stokeseniors.com
SUMMARY:Inter Club Match v Ipswich - Away
DESCRIPTION:
URL:https://stokeseniors.com/event/inter-club-match-v-ipswich-away/
END:VEVENT
BEGIN:VEVENT
DTSTART;TZID=UTC:20240821T083200
DTEND;TZID=UTC:20240821T170000
DTSTAMP:20260425T054953
CREATED:20240721T184922Z
LAST-MODIFIED:20240808T095315Z
UID:15855-1724229120-1724259600@stokeseniors.com
SUMMARY:Inter Club Match v Frinton – Home
DESCRIPTION:
URL:https://stokeseniors.com/event/inter-club-match-v-frinton-home/
END:VEVENT
BEGIN:VEVENT
DTSTART;TZID=UTC:20240819T113000
DTEND;TZID=UTC:20240819T170000
DTSTAMP:20260425T054953
CREATED:20240119T173925Z
LAST-MODIFIED:20240119T173925Z
UID:12367-1724067000-1724086800@stokeseniors.com
SUMMARY:Committee Cup - Bentley GC
DESCRIPTION:
URL:https://stokeseniors.com/event/committee-cup-bentley-gc/
END:VEVENT
BEGIN:VEVENT
DTSTART;TZID=UTC:20240819T083200
DTEND;TZID=UTC:20240819T170000
DTSTAMP:20260425T054953
CREATED:20240806T081514Z
LAST-MODIFIED:20240806T081514Z
UID:16159-1724056320-1724086800@stokeseniors.com
SUMMARY:Wednesday Swindle - Constable
DESCRIPTION:
URL:https://stokeseniors.com/event/wednesday-swindle-constable-39/
END:VEVENT
BEGIN:VEVENT
DTSTART;TZID=UTC:20240815T083200
DTEND;TZID=UTC:20240815T170000
DTSTAMP:20260425T054953
CREATED:20230420T143057Z
LAST-MODIFIED:20240725T080218Z
UID:6716-1723710720-1723741200@stokeseniors.com
SUMMARY:Inter Club Match v Clacton - Home
DESCRIPTION:
URL:https://stokeseniors.com/event/inter-club-match-v-clacton-gainsborough/
END:VEVENT
BEGIN:VEVENT
DTSTART;TZID=UTC:20240814T083200
DTEND;TZID=UTC:20240814T170000
DTSTAMP:20260425T054953
CREATED:20230420T140718Z
LAST-MODIFIED:20240814T143312Z
UID:6656-1723624320-1723654800@stokeseniors.com
SUMMARY:Seniors Medal Cup & Bell - Constable
DESCRIPTION:
URL:https://stokeseniors.com/event/seniors-medal-cup-bell-constable-2/
END:VEVENT
BEGIN:VEVENT
DTSTART;TZID=UTC:20240812T083200
DTEND;TZID=UTC:20240812T170000
DTSTAMP:20260425T054953
CREATED:20240806T081420Z
LAST-MODIFIED:20240806T081420Z
UID:16157-1723451520-1723482000@stokeseniors.com
SUMMARY:Wednesday Swindle - Gainsborough
DESCRIPTION:
URL:https://stokeseniors.com/event/wednesday-swindle-gainsborough-31/
END:VEVENT
BEGIN:VEVENT
DTSTART;TZID=UTC:20240809T083200
DTEND;TZID=UTC:20240809T170000
DTSTAMP:20260425T054953
CREATED:20230420T143011Z
LAST-MODIFIED:20240727T085936Z
UID:6714-1723192320-1723222800@stokeseniors.com
SUMMARY:Inter Club Match v Felixstowe - Home
DESCRIPTION:
URL:https://stokeseniors.com/event/inter-club-match-v-felixstowe-gainsborough-2/
END:VEVENT
BEGIN:VEVENT
DTSTART;TZID=UTC:20240807T083200
DTEND;TZID=UTC:20240807T170000
DTSTAMP:20260425T054953
CREATED:20240806T081336Z
LAST-MODIFIED:20240806T081336Z
UID:16155-1723019520-1723050000@stokeseniors.com
SUMMARY:Wednesday Swindle - Gainsborough
DESCRIPTION:
URL:https://stokeseniors.com/event/wednesday-swindle-gainsborough-29/
END:VEVENT
BEGIN:VEVENT
DTSTART;TZID=UTC:20240805T083200
DTEND;TZID=UTC:20240805T170000
DTSTAMP:20260425T054953
CREATED:20230420T080050Z
LAST-MODIFIED:20240709T192024Z
UID:6627-1722846720-1722877200@stokeseniors.com
SUMMARY:Monthly Stableford - Constable
DESCRIPTION:
URL:https://stokeseniors.com/event/monthly-stableford-constable-9/
END:VEVENT
BEGIN:VEVENT
DTSTART;TZID=UTC:20240802T083200
DTEND;TZID=UTC:20240802T170000
DTSTAMP:20260425T054953
CREATED:20230420T142127Z
LAST-MODIFIED:20240721T103913Z
UID:6692-1722587520-1722618000@stokeseniors.com
SUMMARY:Inter Club Match v Benton Hall - Away
DESCRIPTION:
URL:https://stokeseniors.com/event/inter-club-match-v-benton-hall-away-3/
END:VEVENT
BEGIN:VEVENT
DTSTART;TZID=UTC:20240731T083200
DTEND;TZID=UTC:20240731T170000
DTSTAMP:20260425T054953
CREATED:20230420T142045Z
LAST-MODIFIED:20240618T133357Z
UID:6690-1722414720-1722445200@stokeseniors.com
SUMMARY:Inter Club Match v Hintlesham - Away
DESCRIPTION:
URL:https://stokeseniors.com/event/inter-club-match-v-hintlesham-away-2/
END:VEVENT
BEGIN:VEVENT
DTSTART;TZID=UTC:20240731T080000
DTEND;TZID=UTC:20240731T170000
DTSTAMP:20260425T054953
CREATED:20240512T120809Z
LAST-MODIFIED:20240512T120809Z
UID:14392-1722412800-1722445200@stokeseniors.com
SUMMARY:Wednesday Swindle - Constable
DESCRIPTION:
URL:https://stokeseniors.com/event/wednesday-swindle-constable-38/
END:VEVENT
BEGIN:VEVENT
DTSTART;TZID=UTC:20240726T080000
DTEND;TZID=UTC:20240726T170000
DTSTAMP:20260425T054953
CREATED:20240512T120515Z
LAST-MODIFIED:20240512T120515Z
UID:14386-1721980800-1722013200@stokeseniors.com
SUMMARY:Wednesday Swindle - Gainsborough
DESCRIPTION:
URL:https://stokeseniors.com/event/wednesday-swindle-gainsborough-30/
END:VEVENT
END:VCALENDAR