BEGIN:VCALENDAR
VERSION:2.0
PRODID:-//Stoke Seniors - ECPv6.15.17.1//NONSGML v1.0//EN
CALSCALE:GREGORIAN
METHOD:PUBLISH
X-WR-CALNAME:Stoke Seniors
X-ORIGINAL-URL:https://stokeseniors.com
X-WR-CALDESC:Events for Stoke Seniors
REFRESH-INTERVAL;VALUE=DURATION:PT1H
X-Robots-Tag:noindex
X-PUBLISHED-TTL:PT1H
BEGIN:VTIMEZONE
TZID:UTC
BEGIN:STANDARD
TZOFFSETFROM:+0000
TZOFFSETTO:+0000
TZNAME:UTC
DTSTART:20230101T000000
END:STANDARD
END:VTIMEZONE
BEGIN:VEVENT
DTSTART;TZID=UTC:20240710T090000
DTEND;TZID=UTC:20240710T170000
DTSTAMP:20260425T135616
CREATED:20230420T140624Z
LAST-MODIFIED:20240611T081901Z
UID:6654-1720602000-1720630800@stokeseniors.com
SUMMARY:Senior Captain's Day - Gainsborough
DESCRIPTION:
URL:https://stokeseniors.com/event/senior-captains-charity-day-gainsborough/
END:VEVENT
BEGIN:VEVENT
DTSTART;TZID=UTC:20240703T080000
DTEND;TZID=UTC:20240703T170000
DTSTAMP:20260425T135616
CREATED:20240512T120339Z
LAST-MODIFIED:20240512T120339Z
UID:14380-1719993600-1720026000@stokeseniors.com
SUMMARY:Wednesday Swindle - Constable
DESCRIPTION:
URL:https://stokeseniors.com/event/wednesday-swindle-constable-36/
END:VEVENT
BEGIN:VEVENT
DTSTART;TZID=UTC:20240628T080000
DTEND;TZID=UTC:20240628T170000
DTSTAMP:20260425T135616
CREATED:20240512T120318Z
LAST-MODIFIED:20240512T120318Z
UID:14378-1719561600-1719594000@stokeseniors.com
SUMMARY:Wednesday Swindle - Gainsborough
DESCRIPTION:
URL:https://stokeseniors.com/event/wednesday-swindle-gainsborough-26/
END:VEVENT
BEGIN:VEVENT
DTSTART;TZID=UTC:20240626T083200
DTEND;TZID=UTC:20240626T170000
DTSTAMP:20260425T135616
CREATED:20230420T142841Z
LAST-MODIFIED:20240530T122804Z
UID:6710-1719390720-1719421200@stokeseniors.com
SUMMARY:Inter Club Match v Gosfield - Home
DESCRIPTION:
URL:https://stokeseniors.com/event/inter-club-match-v-gosfield-gainsborough-2/
END:VEVENT
BEGIN:VEVENT
DTSTART;VALUE=DATE:20240626
DTEND;VALUE=DATE:20240627
DTSTAMP:20260425T135616
CREATED:20240606T100542Z
LAST-MODIFIED:20240606T152630Z
UID:15027-1719360000-1719446399@stokeseniors.com
SUMMARY:English Open for Golfers with Disabilities
DESCRIPTION:
URL:https://stokeseniors.com/event/english-open-for-golfer-with-disabilities-2/
END:VEVENT
BEGIN:VEVENT
DTSTART;VALUE=DATE:20240625
DTEND;VALUE=DATE:20240626
DTSTAMP:20260425T135616
CREATED:20240606T100517Z
LAST-MODIFIED:20240606T152558Z
UID:15025-1719273600-1719359999@stokeseniors.com
SUMMARY:English Open for Golfers with Disabilities
DESCRIPTION:
URL:https://stokeseniors.com/event/english-open-for-golfer-with-disabilities/
END:VEVENT
BEGIN:VEVENT
DTSTART;TZID=UTC:20240621T083200
DTEND;TZID=UTC:20240621T170000
DTSTAMP:20260425T135616
CREATED:20231102T091020Z
LAST-MODIFIED:20231102T091020Z
UID:11662-1718958720-1718989200@stokeseniors.com
SUMMARY:Wednesday Swindle - Constable
DESCRIPTION:
URL:https://stokeseniors.com/event/wednesday-swindle-constable-35/
END:VEVENT
BEGIN:VEVENT
DTSTART;TZID=UTC:20240619T083200
DTEND;TZID=UTC:20240619T170000
DTSTAMP:20260425T135616
CREATED:20230420T075947Z
LAST-MODIFIED:20240524T075541Z
UID:6623-1718785920-1718816400@stokeseniors.com
SUMMARY:Monthly Stableford & Senior Captain’s Prize - Constable
DESCRIPTION:
URL:https://stokeseniors.com/event/monthly-stableford-constable-8/
END:VEVENT
BEGIN:VEVENT
DTSTART;TZID=UTC:20240617T083200
DTEND;TZID=UTC:20240617T170000
DTSTAMP:20260425T135616
CREATED:20230420T142801Z
LAST-MODIFIED:20240603T065508Z
UID:6708-1718613120-1718643600@stokeseniors.com
SUMMARY:Inter Club Match v Benton Hall - Home
DESCRIPTION:
URL:https://stokeseniors.com/event/inter-club-match-v-benton-hall-constable-2/
END:VEVENT
BEGIN:VEVENT
DTSTART;TZID=UTC:20240612T083200
DTEND;TZID=UTC:20240612T170000
DTSTAMP:20260425T135616
CREATED:20230420T140512Z
LAST-MODIFIED:20240521T113416Z
UID:6652-1718181120-1718211600@stokeseniors.com
SUMMARY:Seniors Championship - Round 2 - Constable
DESCRIPTION:
URL:https://stokeseniors.com/event/seniors-championship-round-2-gainsborough/
END:VEVENT
BEGIN:VEVENT
DTSTART;TZID=UTC:20240610T083200
DTEND;TZID=UTC:20240610T170000
DTSTAMP:20260425T135616
CREATED:20231102T091520Z
LAST-MODIFIED:20231102T091520Z
UID:11686-1718008320-1718038800@stokeseniors.com
SUMMARY:Wednesday Swindle - Gainsborough
DESCRIPTION:
URL:https://stokeseniors.com/event/wednesday-swindle-gainsborough-28/
END:VEVENT
BEGIN:VEVENT
DTSTART;TZID=UTC:20240610T083200
DTEND;TZID=UTC:20240610T170000
DTSTAMP:20260425T135616
CREATED:20230420T141953Z
LAST-MODIFIED:20240521T120041Z
UID:6688-1718008320-1718038800@stokeseniors.com
SUMMARY:Inter Club Match v Felixstowe - Away
DESCRIPTION:
URL:https://stokeseniors.com/event/inter-club-match-v-felixstowe-away-2/
END:VEVENT
BEGIN:VEVENT
DTSTART;TZID=UTC:20240607T083200
DTEND;TZID=UTC:20240607T170000
DTSTAMP:20260425T135616
CREATED:20231102T090947Z
LAST-MODIFIED:20231102T090947Z
UID:11660-1717749120-1717779600@stokeseniors.com
SUMMARY:Wednesday Swindle - Constable
DESCRIPTION:
URL:https://stokeseniors.com/event/wednesday-swindle-constable-34/
END:VEVENT
BEGIN:VEVENT
DTSTART;TZID=UTC:20240607T083200
DTEND;TZID=UTC:20240607T170000
DTSTAMP:20260425T135616
CREATED:20230420T141916Z
LAST-MODIFIED:20240521T114025Z
UID:6686-1717749120-1717779600@stokeseniors.com
SUMMARY:Inter Club Match v Frinton - Away
DESCRIPTION:
URL:https://stokeseniors.com/event/inter-club-match-v-frinton-away-2/
END:VEVENT
BEGIN:VEVENT
DTSTART;TZID=UTC:20240605T083200
DTEND;TZID=UTC:20240605T170000
DTSTAMP:20260425T135616
CREATED:20230420T140420Z
LAST-MODIFIED:20240521T112733Z
UID:6650-1717576320-1717606800@stokeseniors.com
SUMMARY:Seniors Championship - Round 1 - Gainsborough
DESCRIPTION:
URL:https://stokeseniors.com/event/seniors-championship-round-1-gainsborough-2/
END:VEVENT
BEGIN:VEVENT
DTSTART;TZID=UTC:20240531T083200
DTEND;TZID=UTC:20240531T170000
DTSTAMP:20260425T135616
CREATED:20231102T091455Z
LAST-MODIFIED:20231102T091455Z
UID:11684-1717144320-1717174800@stokeseniors.com
SUMMARY:Wednesday Swindle - Gainsborough
DESCRIPTION:
URL:https://stokeseniors.com/event/wednesday-swindle-gainsborough-27/
END:VEVENT
BEGIN:VEVENT
DTSTART;TZID=UTC:20240531T083200
DTEND;TZID=UTC:20240531T170000
DTSTAMP:20260425T135616
CREATED:20230916T084811Z
LAST-MODIFIED:20240511T082443Z
UID:10469-1717144320-1717174800@stokeseniors.com
SUMMARY:Inter Club Match v Braintree Away
DESCRIPTION:
URL:https://stokeseniors.com/event/inter-club-match-v-braintree-away/
END:VEVENT
BEGIN:VEVENT
DTSTART;TZID=UTC:20240529T083200
DTEND;TZID=UTC:20240529T170000
DTSTAMP:20260425T135616
CREATED:20230420T140326Z
LAST-MODIFIED:20240518T084228Z
UID:6648-1716971520-1717002000@stokeseniors.com
SUMMARY:Veterans Cup - Club competition
DESCRIPTION:
URL:https://stokeseniors.com/event/veterans-cup-club-competition-2/
END:VEVENT
BEGIN:VEVENT
DTSTART;TZID=UTC:20240528T083200
DTEND;TZID=UTC:20240528T170000
DTSTAMP:20260425T135616
CREATED:20230420T141831Z
LAST-MODIFIED:20240516T163230Z
UID:6684-1716885120-1716915600@stokeseniors.com
SUMMARY:Inter Club Match v Haverhill - Away
DESCRIPTION:
URL:https://stokeseniors.com/event/inter-club-match-v-haverhill-away-2/
END:VEVENT
BEGIN:VEVENT
DTSTART;TZID=UTC:20240522T083200
DTEND;TZID=UTC:20240522T170000
DTSTAMP:20260425T135616
CREATED:20231102T090920Z
LAST-MODIFIED:20231102T090920Z
UID:11658-1716366720-1716397200@stokeseniors.com
SUMMARY:Wednesday Swindle - Constable
DESCRIPTION:
URL:https://stokeseniors.com/event/wednesday-swindle-constable-33/
END:VEVENT
BEGIN:VEVENT
DTSTART;TZID=UTC:20240522T083200
DTEND;TZID=UTC:20240522T170000
DTSTAMP:20260425T135616
CREATED:20230420T142705Z
LAST-MODIFIED:20240508T145615Z
UID:6706-1716366720-1716397200@stokeseniors.com
SUMMARY:Inter Club Match v Brett Vale - Home
DESCRIPTION:
URL:https://stokeseniors.com/event/inter-club-match-v-brett-vale-gainsborough-2/
END:VEVENT
BEGIN:VEVENT
DTSTART;TZID=UTC:20240516T090000
DTEND;TZID=UTC:20240516T170000
DTSTAMP:20260425T135616
CREATED:20230519T121304Z
LAST-MODIFIED:20230519T121304Z
UID:7442-1715850000-1715878800@stokeseniors.com
SUMMARY:VC Tour 2024 - East Sussex National
DESCRIPTION:
URL:https://stokeseniors.com/event/vc-tour-2024-east-sussex-national-2/
END:VEVENT
BEGIN:VEVENT
DTSTART;TZID=UTC:20240515T090000
DTEND;TZID=UTC:20240515T170000
DTSTAMP:20260425T135616
CREATED:20230519T121227Z
LAST-MODIFIED:20230519T121227Z
UID:7439-1715763600-1715792400@stokeseniors.com
SUMMARY:VC Tour 2024 - East Sussex National
DESCRIPTION:
URL:https://stokeseniors.com/event/vc-tour-2024-east-sussex-national/
END:VEVENT
BEGIN:VEVENT
DTSTART;TZID=UTC:20240514T090000
DTEND;TZID=UTC:20240514T170000
DTSTAMP:20260425T135616
CREATED:20230519T121118Z
LAST-MODIFIED:20240509T071613Z
UID:7437-1715677200-1715706000@stokeseniors.com
SUMMARY:VC Tour 2024 - East Sussex National
DESCRIPTION:
URL:https://stokeseniors.com/event/vc-tour-2023-east-sussex-national/
END:VEVENT
BEGIN:VEVENT
DTSTART;TZID=UTC:20240513T083200
DTEND;TZID=UTC:20240513T170000
DTSTAMP:20260425T135616
CREATED:20230420T075512Z
LAST-MODIFIED:20240423T143124Z
UID:6613-1715589120-1715619600@stokeseniors.com
SUMMARY:Monthly Stableford  - Gainsborough
DESCRIPTION:
URL:https://stokeseniors.com/event/monthly-stableford-captains-prize-gainsborough-2/
END:VEVENT
BEGIN:VEVENT
DTSTART;TZID=UTC:20240513T080000
DTEND;TZID=UTC:20240513T170000
DTSTAMP:20260425T135616
CREATED:20240421T192820Z
LAST-MODIFIED:20240421T192856Z
UID:13919-1715587200-1715619600@stokeseniors.com
SUMMARY:Essex Seniors Team Championship v Orsett - Home
DESCRIPTION:
URL:https://stokeseniors.com/event/essex-seniors-team-championship-v-orsett-home-13th-may/
END:VEVENT
BEGIN:VEVENT
DTSTART;TZID=UTC:20240510T083200
DTEND;TZID=UTC:20240510T170000
DTSTAMP:20260425T135616
CREATED:20231102T090852Z
LAST-MODIFIED:20231102T090852Z
UID:11656-1715329920-1715360400@stokeseniors.com
SUMMARY:Wednesday Swindle - Constable
DESCRIPTION:
URL:https://stokeseniors.com/event/wednesday-swindle-constable-32/
END:VEVENT
BEGIN:VEVENT
DTSTART;TZID=UTC:20240508T083200
DTEND;TZID=UTC:20240508T170000
DTSTAMP:20260425T135616
CREATED:20230420T142628Z
LAST-MODIFIED:20230824T081453Z
UID:6704-1715157120-1715187600@stokeseniors.com
SUMMARY:Inter Club Match v Hintlesham - Home
DESCRIPTION:
URL:https://stokeseniors.com/event/inter-club-match-v-hintlesham-gainsborough/
END:VEVENT
BEGIN:VEVENT
DTSTART;TZID=UTC:20240507T100000
DTEND;TZID=UTC:20240507T170000
DTSTAMP:20260425T135616
CREATED:20240321T164310Z
LAST-MODIFIED:20240414T074743Z
UID:13065-1715076000-1715101200@stokeseniors.com
SUMMARY:John Day Trophy v Abridge GC - Away
DESCRIPTION:
URL:https://stokeseniors.com/event/john-day-trophy-v-abridge-gc-away/
END:VEVENT
BEGIN:VEVENT
DTSTART;TZID=UTC:20240503T083200
DTEND;TZID=UTC:20240503T170000
DTSTAMP:20260425T135616
CREATED:20231102T091401Z
LAST-MODIFIED:20231102T091401Z
UID:11680-1714725120-1714755600@stokeseniors.com
SUMMARY:Wednesday Swindle - Gainsborough
DESCRIPTION:
URL:https://stokeseniors.com/event/wednesday-swindle-gainsborough-25/
END:VEVENT
END:VCALENDAR