BEGIN:VCALENDAR
VERSION:2.0
PRODID:-//Stoke Seniors - ECPv6.15.17.1//NONSGML v1.0//EN
CALSCALE:GREGORIAN
METHOD:PUBLISH
X-ORIGINAL-URL:https://stokeseniors.com
X-WR-CALDESC:Events for Stoke Seniors
REFRESH-INTERVAL;VALUE=DURATION:PT1H
X-Robots-Tag:noindex
X-PUBLISHED-TTL:PT1H
BEGIN:VTIMEZONE
TZID:UTC
BEGIN:STANDARD
TZOFFSETFROM:+0000
TZOFFSETTO:+0000
TZNAME:UTC
DTSTART:20230101T000000
END:STANDARD
END:VTIMEZONE
BEGIN:VEVENT
DTSTART;TZID=UTC:20240415T083200
DTEND;TZID=UTC:20240415T170000
DTSTAMP:20260425T200737
CREATED:20230420T141634Z
LAST-MODIFIED:20240330T094539Z
UID:6678-1713169920-1713200400@stokeseniors.com
SUMMARY:Inter Club Match v Colchester - Away
DESCRIPTION:
URL:https://stokeseniors.com/event/inter-club-match-v-colchester-away-2/
END:VEVENT
BEGIN:VEVENT
DTSTART;TZID=UTC:20240412T083200
DTEND;TZID=UTC:20240412T170000
DTSTAMP:20260425T200737
CREATED:20231102T090800Z
LAST-MODIFIED:20231102T090800Z
UID:11652-1712910720-1712941200@stokeseniors.com
SUMMARY:Wednesday Swindle - Constable
DESCRIPTION:
URL:https://stokeseniors.com/event/wednesday-swindle-constable-30/
END:VEVENT
BEGIN:VEVENT
DTSTART;TZID=UTC:20240412T080000
DTEND;TZID=UTC:20240412T170000
DTSTAMP:20260425T200737
CREATED:20231015T080207Z
LAST-MODIFIED:20240330T094002Z
UID:11079-1712908800-1712941200@stokeseniors.com
SUMMARY:Inter Club Match v Ipswich - Home
DESCRIPTION:
URL:https://stokeseniors.com/event/inter-club-match-v-ipswich-home/
END:VEVENT
BEGIN:VEVENT
DTSTART;TZID=UTC:20240410T083200
DTEND;TZID=UTC:20240410T170000
DTSTAMP:20260425T200737
CREATED:20230420T075907Z
LAST-MODIFIED:20240321T181906Z
UID:6621-1712737920-1712768400@stokeseniors.com
SUMMARY:Monthly Stableford - Constable
DESCRIPTION:
URL:https://stokeseniors.com/event/monthly-stableford-constable-7/
END:VEVENT
BEGIN:VEVENT
DTSTART;TZID=UTC:20240409T083200
DTEND;TZID=UTC:20240409T170000
DTSTAMP:20260425T200737
CREATED:20230420T141552Z
LAST-MODIFIED:20240328T121129Z
UID:6676-1712651520-1712682000@stokeseniors.com
SUMMARY:Inter Club Match v Brett Vale - Away
DESCRIPTION:
URL:https://stokeseniors.com/event/inter-club-match-v-brett-vale-away-2/
END:VEVENT
BEGIN:VEVENT
DTSTART;TZID=UTC:20240403T083200
DTEND;TZID=UTC:20240403T170000
DTSTAMP:20260425T200737
CREATED:20231102T091313Z
LAST-MODIFIED:20231102T091313Z
UID:11676-1712133120-1712163600@stokeseniors.com
SUMMARY:Wednesday Swindle - Gainsborough
DESCRIPTION:
URL:https://stokeseniors.com/event/wednesday-swindle-gainsborough-23/
END:VEVENT
BEGIN:VEVENT
DTSTART;TZID=UTC:20240403T083200
DTEND;TZID=UTC:20240403T170000
DTSTAMP:20260425T200737
CREATED:20230420T142540Z
LAST-MODIFIED:20240222T155701Z
UID:6702-1712133120-1712163600@stokeseniors.com
SUMMARY:Inter Club Match v The Warren - Home
DESCRIPTION:
URL:https://stokeseniors.com/event/inter-club-match-v-the-warren-gainsborough-2/
END:VEVENT
BEGIN:VEVENT
DTSTART;TZID=UTC:20240327T083200
DTEND;TZID=UTC:20240327T170000
DTSTAMP:20260425T200737
CREATED:20231102T090734Z
LAST-MODIFIED:20231102T090734Z
UID:11650-1711528320-1711558800@stokeseniors.com
SUMMARY:Wednesday Swindle - Constable
DESCRIPTION:
URL:https://stokeseniors.com/event/wednesday-swindle-constable-29/
END:VEVENT
BEGIN:VEVENT
DTSTART;TZID=UTC:20240327T083200
DTEND;TZID=UTC:20240327T170000
DTSTAMP:20260425T200737
CREATED:20230420T142502Z
LAST-MODIFIED:20240222T104418Z
UID:6700-1711528320-1711558800@stokeseniors.com
SUMMARY:Inter Club Match v Colchester - Home
DESCRIPTION:
URL:https://stokeseniors.com/event/inter-club-match-v-colchester-gainsborough/
END:VEVENT
BEGIN:VEVENT
DTSTART;TZID=UTC:20240320T083200
DTEND;TZID=UTC:20240320T170000
DTSTAMP:20260425T200737
CREATED:20231102T091251Z
LAST-MODIFIED:20231102T091251Z
UID:11674-1710923520-1710954000@stokeseniors.com
SUMMARY:Wednesday Swindle - Gainsborough
DESCRIPTION:
URL:https://stokeseniors.com/event/wednesday-swindle-gainsborough-22/
END:VEVENT
BEGIN:VEVENT
DTSTART;TZID=UTC:20240320T083200
DTEND;TZID=UTC:20240320T083200
DTSTAMP:20260425T200737
CREATED:20230505T175124Z
LAST-MODIFIED:20240221T164844Z
UID:6722-1710923520-1710923520@stokeseniors.com
SUMMARY:Inter Club Match v Newton Green - Home
DESCRIPTION:
URL:https://stokeseniors.com/event/inter-club-match-v-newton-green-gainsborough-3/
END:VEVENT
BEGIN:VEVENT
DTSTART;TZID=UTC:20240313T083200
DTEND;TZID=UTC:20240313T170000
DTSTAMP:20260425T200737
CREATED:20230420T075834Z
LAST-MODIFIED:20240221T163630Z
UID:6619-1710318720-1710349200@stokeseniors.com
SUMMARY:Monthly Stableford - Constable
DESCRIPTION:
URL:https://stokeseniors.com/event/monthly-stableford-constable-6/
END:VEVENT
BEGIN:VEVENT
DTSTART;TZID=UTC:20240312T083200
DTEND;TZID=UTC:20240312T170000
DTSTAMP:20260425T200737
CREATED:20230420T141507Z
LAST-MODIFIED:20240311T131322Z
UID:6674-1710232320-1710262800@stokeseniors.com
SUMMARY:Inter Club Match v Stowmarket - Away - CANCELLED
DESCRIPTION:
URL:https://stokeseniors.com/event/inter-club-match-v-stowmarket-away-3/
END:VEVENT
BEGIN:VEVENT
DTSTART;TZID=UTC:20240311T083200
DTEND;TZID=UTC:20240311T170000
DTSTAMP:20260425T200737
CREATED:20231102T090708Z
LAST-MODIFIED:20231102T090708Z
UID:11648-1710145920-1710176400@stokeseniors.com
SUMMARY:Wednesday Swindle - Constable
DESCRIPTION:
URL:https://stokeseniors.com/event/wednesday-swindle-constable-28/
END:VEVENT
BEGIN:VEVENT
DTSTART;TZID=UTC:20240308T083200
DTEND;TZID=UTC:20240308T170000
DTSTAMP:20260425T200737
CREATED:20231102T091226Z
LAST-MODIFIED:20240306T152753Z
UID:11672-1709886720-1709917200@stokeseniors.com
SUMMARY:Wednesday Swindle - Gainsborough - CANCELLED only 9 holes on Gainsborough
DESCRIPTION:
URL:https://stokeseniors.com/event/wednesday-swindle-gainsborough-21/
END:VEVENT
BEGIN:VEVENT
DTSTART;TZID=UTC:20240306T083200
DTEND;TZID=UTC:20240306T170000
DTSTAMP:20260425T200737
CREATED:20230420T080544Z
LAST-MODIFIED:20240304T112543Z
UID:6637-1709713920-1709744400@stokeseniors.com
SUMMARY:Seniors Texas Scramble - Gainsborough - for the Mike Moore (Lightbulb) Memorial Trophy - CANCELLED
DESCRIPTION:
URL:https://stokeseniors.com/event/seniors-texas-scramble-gainsborough/
END:VEVENT
BEGIN:VEVENT
DTSTART;TZID=UTC:20240226T083200
DTEND;TZID=UTC:20240226T170000
DTSTAMP:20260425T200737
CREATED:20231102T090642Z
LAST-MODIFIED:20240221T151256Z
UID:11646-1708936320-1708966800@stokeseniors.com
SUMMARY:Wednesday Swindle - Constable - CANCELLED
DESCRIPTION:
URL:https://stokeseniors.com/event/wednesday-swindle-constable-27/
END:VEVENT
BEGIN:VEVENT
DTSTART;TZID=UTC:20240223T083200
DTEND;TZID=UTC:20240223T170000
DTSTAMP:20260425T200737
CREATED:20231102T091200Z
LAST-MODIFIED:20240221T151331Z
UID:11670-1708677120-1708707600@stokeseniors.com
SUMMARY:Wednesday Swindle - Gainsborough - CANCELLED
DESCRIPTION:
URL:https://stokeseniors.com/event/wednesday-swindle-gainsborough-20/
END:VEVENT
BEGIN:VEVENT
DTSTART;TZID=UTC:20240221T083200
DTEND;TZID=UTC:20240221T170000
DTSTAMP:20260425T200737
CREATED:20230420T075347Z
LAST-MODIFIED:20240217T154253Z
UID:6611-1708504320-1708534800@stokeseniors.com
SUMMARY:Monthly Stableford - Gainsborough - CANCELLED
DESCRIPTION:
URL:https://stokeseniors.com/event/monthly-stableford-gainsborough-4/
END:VEVENT
BEGIN:VEVENT
DTSTART;TZID=UTC:20240214T083200
DTEND;TZID=UTC:20240214T170000
DTSTAMP:20260425T200737
CREATED:20230420T080455Z
LAST-MODIFIED:20240117T212054Z
UID:6635-1707899520-1707930000@stokeseniors.com
SUMMARY:3 Clubs & a Putter - Gainsborough
DESCRIPTION:
URL:https://stokeseniors.com/event/3-clubs-a-putter-gainsborough/
END:VEVENT
BEGIN:VEVENT
DTSTART;TZID=UTC:20240212T083200
DTEND;TZID=UTC:20240212T170000
DTSTAMP:20260425T200737
CREATED:20231102T090620Z
LAST-MODIFIED:20231102T090620Z
UID:11644-1707726720-1707757200@stokeseniors.com
SUMMARY:Wednesday Swindle - Constable
DESCRIPTION:
URL:https://stokeseniors.com/event/wednesday-swindle-constable-26/
END:VEVENT
BEGIN:VEVENT
DTSTART;TZID=UTC:20240209T083200
DTEND;TZID=UTC:20240209T170000
DTSTAMP:20260425T200737
CREATED:20231102T091137Z
LAST-MODIFIED:20231102T091137Z
UID:11668-1707467520-1707498000@stokeseniors.com
SUMMARY:Wednesday Swindle - Gainsborough
DESCRIPTION:
URL:https://stokeseniors.com/event/wednesday-swindle-gainsborough-15/
END:VEVENT
BEGIN:VEVENT
DTSTART;TZID=UTC:20240207T083200
DTEND;TZID=UTC:20240207T170000
DTSTAMP:20260425T200737
CREATED:20230420T080406Z
LAST-MODIFIED:20240117T210233Z
UID:6633-1707294720-1707325200@stokeseniors.com
SUMMARY:Seniors 4 Ball Better Ball - Gainsborough
DESCRIPTION:
URL:https://stokeseniors.com/event/seniors-4-ball-better-ball-gainsborough/
END:VEVENT
BEGIN:VEVENT
DTSTART;TZID=UTC:20240202T190000
DTEND;TZID=UTC:20240202T190000
DTSTAMP:20260425T200737
CREATED:20240110T154827Z
LAST-MODIFIED:20240110T154827Z
UID:12287-1706900400-1706900400@stokeseniors.com
SUMMARY:Chocolate Tasting - 2nd February
DESCRIPTION:
URL:https://stokeseniors.com/event/chocolate-tasting-2nd-february/
END:VEVENT
BEGIN:VEVENT
DTSTART;TZID=UTC:20240129T083200
DTEND;TZID=UTC:20240129T170000
DTSTAMP:20260425T200737
CREATED:20231102T090555Z
LAST-MODIFIED:20231102T090555Z
UID:11642-1706517120-1706547600@stokeseniors.com
SUMMARY:Wednesday Swindle - Constable
DESCRIPTION:
URL:https://stokeseniors.com/event/wednesday-swindle-constable-25/
END:VEVENT
BEGIN:VEVENT
DTSTART;TZID=UTC:20240124T083200
DTEND;TZID=UTC:20240124T170000
DTSTAMP:20260425T200737
CREATED:20231102T091116Z
LAST-MODIFIED:20231102T091116Z
UID:11666-1706085120-1706115600@stokeseniors.com
SUMMARY:Wednesday Swindle - Gainsborough
DESCRIPTION:
URL:https://stokeseniors.com/event/wednesday-swindle-gainsborough-8/
END:VEVENT
BEGIN:VEVENT
DTSTART;TZID=UTC:20240119T180000
DTEND;TZID=UTC:20240119T180000
DTSTAMP:20260425T200737
CREATED:20240110T154005Z
LAST-MODIFIED:20240110T154103Z
UID:12272-1705687200-1705687200@stokeseniors.com
SUMMARY:Pro Coaching Event
DESCRIPTION:
URL:https://stokeseniors.com/event/pro-coaching-event/
END:VEVENT
BEGIN:VEVENT
DTSTART;TZID=UTC:20240117T083200
DTEND;TZID=UTC:20240117T170000
DTSTAMP:20260425T200737
CREATED:20231102T090531Z
LAST-MODIFIED:20231102T090531Z
UID:11640-1705480320-1705510800@stokeseniors.com
SUMMARY:Wednesday Swindle - Constable
DESCRIPTION:
URL:https://stokeseniors.com/event/wednesday-swindle-constable-24/
END:VEVENT
BEGIN:VEVENT
DTSTART;TZID=UTC:20240112T083200
DTEND;TZID=UTC:20240112T170000
DTSTAMP:20260425T200737
CREATED:20231102T091055Z
LAST-MODIFIED:20231102T091055Z
UID:11664-1705048320-1705078800@stokeseniors.com
SUMMARY:Wednesday Swindle - Gainsborough
DESCRIPTION:
URL:https://stokeseniors.com/event/wednesday-swindle-gainsborough-6/
END:VEVENT
BEGIN:VEVENT
DTSTART;TZID=UTC:20240105T083200
DTEND;TZID=UTC:20240105T170000
DTSTAMP:20260425T200737
CREATED:20231102T090459Z
LAST-MODIFIED:20231102T090459Z
UID:11638-1704443520-1704474000@stokeseniors.com
SUMMARY:Wednesday Swindle - Constable
DESCRIPTION:
URL:https://stokeseniors.com/event/wednesday-swindle-constable-23/
END:VEVENT
END:VCALENDAR