BEGIN:VCALENDAR
VERSION:2.0
PRODID:-//Stoke Seniors - ECPv6.15.17.1//NONSGML v1.0//EN
CALSCALE:GREGORIAN
METHOD:PUBLISH
X-WR-CALNAME:Stoke Seniors
X-ORIGINAL-URL:https://stokeseniors.com
X-WR-CALDESC:Events for Stoke Seniors
REFRESH-INTERVAL;VALUE=DURATION:PT1H
X-Robots-Tag:noindex
X-PUBLISHED-TTL:PT1H
BEGIN:VTIMEZONE
TZID:UTC
BEGIN:STANDARD
TZOFFSETFROM:+0000
TZOFFSETTO:+0000
TZNAME:UTC
DTSTART:20220101T000000
END:STANDARD
END:VTIMEZONE
BEGIN:VEVENT
DTSTART;TZID=UTC:20230928T083200
DTEND;TZID=UTC:20230928T170000
DTSTAMP:20260426T054213
CREATED:20221127T115736Z
LAST-MODIFIED:20230914T202311Z
UID:2335-1695889920-1695920400@stokeseniors.com
SUMMARY:Inter Club Match v Clacton - Away
DESCRIPTION:
URL:https://stokeseniors.com/event/inter-club-match-v-clacton-constable/
END:VEVENT
BEGIN:VEVENT
DTSTART;TZID=UTC:20230927T083200
DTEND;TZID=UTC:20230927T170000
DTSTAMP:20260426T054213
CREATED:20221219T121742Z
LAST-MODIFIED:20221219T121742Z
UID:4189-1695803520-1695834000@stokeseniors.com
SUMMARY:Wednesday Swindle - Gainsborough
DESCRIPTION:
URL:https://stokeseniors.com/event/wednesday-swindle-gainsborough-17/
END:VEVENT
BEGIN:VEVENT
DTSTART;TZID=UTC:20230920T083200
DTEND;TZID=UTC:20230920T170000
DTSTAMP:20260426T054213
CREATED:20221219T103008Z
LAST-MODIFIED:20221219T103008Z
UID:4150-1695198720-1695229200@stokeseniors.com
SUMMARY:Wednesday Swindle - Constable
DESCRIPTION:
URL:https://stokeseniors.com/event/wednesday-swindle-constable-20/
END:VEVENT
BEGIN:VEVENT
DTSTART;TZID=UTC:20230920T083200
DTEND;TZID=UTC:20230920T120000
DTSTAMP:20260426T054213
CREATED:20221027T152630Z
LAST-MODIFIED:20230827T115804Z
UID:1374-1695198720-1695211200@stokeseniors.com
SUMMARY:Inter Club Match v The Essex - Away
DESCRIPTION:
URL:https://stokeseniors.com/event/inter-club-match-v-the-essex-away/
END:VEVENT
BEGIN:VEVENT
DTSTART;TZID=UTC:20230918T083200
DTEND;TZID=UTC:20230918T120000
DTSTAMP:20260426T054213
CREATED:20221027T145925Z
LAST-MODIFIED:20230918T141414Z
UID:1308-1695025920-1695038400@stokeseniors.com
SUMMARY:Suffolk v Essex - Constable
DESCRIPTION:
URL:https://stokeseniors.com/event/suffolk-v-essex-gainsborough/
END:VEVENT
BEGIN:VEVENT
DTSTART;TZID=UTC:20230915T193000
DTEND;TZID=UTC:20230915T223000
DTSTAMP:20260426T054213
CREATED:20230819T112705Z
LAST-MODIFIED:20230819T112705Z
UID:9983-1694806200-1694817000@stokeseniors.com
SUMMARY:Curry & Quiz Night
DESCRIPTION:
URL:https://stokeseniors.com/event/curry-quiz-night/
END:VEVENT
BEGIN:VEVENT
DTSTART;TZID=UTC:20230915T083200
DTEND;TZID=UTC:20230915T170000
DTSTAMP:20260426T054213
CREATED:20221219T121646Z
LAST-MODIFIED:20221219T121646Z
UID:4187-1694766720-1694797200@stokeseniors.com
SUMMARY:Wednesday Swindle - Gainsborough
DESCRIPTION:
URL:https://stokeseniors.com/event/wednesday-swindle-gainsborough-16/
END:VEVENT
BEGIN:VEVENT
DTSTART;TZID=UTC:20230915T083200
DTEND;TZID=UTC:20230915T120000
DTSTAMP:20260426T054213
CREATED:20221027T145807Z
LAST-MODIFIED:20230819T120628Z
UID:1306-1694766720-1694779200@stokeseniors.com
SUMMARY:Seniors Past Captains Match - Colne Valley GC
DESCRIPTION:
URL:https://stokeseniors.com/event/seniors-past-captains-match-tbc/
END:VEVENT
BEGIN:VEVENT
DTSTART;TZID=UTC:20230911T083200
DTEND;TZID=UTC:20230911T120000
DTSTAMP:20260426T054213
CREATED:20221018T103521Z
LAST-MODIFIED:20230817T074346Z
UID:1165-1694421120-1694433600@stokeseniors.com
SUMMARY:Monthly Stableford & Seniors Cup - Constable
DESCRIPTION:
URL:https://stokeseniors.com/event/monthly-stableford-seniors-cup-constable/
END:VEVENT
BEGIN:VEVENT
DTSTART;TZID=UTC:20230906T083200
DTEND;TZID=UTC:20230906T170000
DTSTAMP:20260426T054213
CREATED:20221219T102940Z
LAST-MODIFIED:20221219T102940Z
UID:4148-1693989120-1694019600@stokeseniors.com
SUMMARY:Wednesday Swindle - Constable
DESCRIPTION:
URL:https://stokeseniors.com/event/wednesday-swindle-constable-19/
END:VEVENT
BEGIN:VEVENT
DTSTART;TZID=UTC:20230830T083200
DTEND;TZID=UTC:20230830T170000
DTSTAMP:20260426T054213
CREATED:20221219T121612Z
LAST-MODIFIED:20230824T082727Z
UID:4185-1693384320-1693414800@stokeseniors.com
SUMMARY:Wednesday Swindle - Constable
DESCRIPTION:
URL:https://stokeseniors.com/event/wednesday-swindle-constable-15-2/
END:VEVENT
BEGIN:VEVENT
DTSTART;TZID=UTC:20230830T083200
DTEND;TZID=UTC:20230830T120000
DTSTAMP:20260426T054213
CREATED:20221027T152519Z
LAST-MODIFIED:20230824T082642Z
UID:1370-1693384320-1693396800@stokeseniors.com
SUMMARY:Inter Club Match v Haverhill - Gainsborough
DESCRIPTION:
URL:https://stokeseniors.com/event/inter-club-match-v-haverhill-constable/
END:VEVENT
BEGIN:VEVENT
DTSTART;TZID=UTC:20230825T083200
DTEND;TZID=UTC:20230825T170000
DTSTAMP:20260426T054213
CREATED:20221219T102916Z
LAST-MODIFIED:20221219T102916Z
UID:4146-1692952320-1692982800@stokeseniors.com
SUMMARY:Wednesday Swindle - Constable
DESCRIPTION:
URL:https://stokeseniors.com/event/wednesday-swindle-constable-18/
END:VEVENT
BEGIN:VEVENT
DTSTART;TZID=UTC:20230825T083200
DTEND;TZID=UTC:20230825T120000
DTSTAMP:20260426T054213
CREATED:20221027T145638Z
LAST-MODIFIED:20230729T142046Z
UID:1304-1692952320-1692964800@stokeseniors.com
SUMMARY:Committee Cup - Stock Brook Manor GC
DESCRIPTION:
URL:https://stokeseniors.com/event/committee-cup-tbc/
END:VEVENT
BEGIN:VEVENT
DTSTART;TZID=UTC:20230823T083200
DTEND;TZID=UTC:20230823T120000
DTSTAMP:20260426T054213
CREATED:20221027T152442Z
LAST-MODIFIED:20230823T164303Z
UID:1368-1692779520-1692792000@stokeseniors.com
SUMMARY:Inter Club Match v Frinton - Gainsborough
DESCRIPTION:
URL:https://stokeseniors.com/event/inter-club-match-v-frinton-constable/
END:VEVENT
BEGIN:VEVENT
DTSTART;TZID=UTC:20230817T083200
DTEND;TZID=UTC:20230817T170000
DTSTAMP:20260426T054213
CREATED:20221127T115922Z
LAST-MODIFIED:20230729T084834Z
UID:2338-1692261120-1692291600@stokeseniors.com
SUMMARY:Inter Club Match v Clacton - Constable
DESCRIPTION:
URL:https://stokeseniors.com/event/inter-club-match-v-clacton-constable-2/
END:VEVENT
BEGIN:VEVENT
DTSTART;TZID=UTC:20230816T083200
DTEND;TZID=UTC:20230816T120000
DTSTAMP:20260426T054213
CREATED:20221027T145509Z
LAST-MODIFIED:20230816T144724Z
UID:1302-1692174720-1692187200@stokeseniors.com
SUMMARY:Seniors Medal Cup & Bell - Constable
DESCRIPTION:
URL:https://stokeseniors.com/event/seniors-medal-cup-bell-constable/
END:VEVENT
BEGIN:VEVENT
DTSTART;TZID=UTC:20230814T083200
DTEND;TZID=UTC:20230814T170000
DTSTAMP:20260426T054213
CREATED:20221219T121506Z
LAST-MODIFIED:20221219T121506Z
UID:4183-1692001920-1692032400@stokeseniors.com
SUMMARY:Wednesday Swindle - Gainsborough
DESCRIPTION:
URL:https://stokeseniors.com/event/wednesday-swindle-gainsborough-14/
END:VEVENT
BEGIN:VEVENT
DTSTART;TZID=UTC:20230811T083200
DTEND;TZID=UTC:20230811T120000
DTSTAMP:20260426T054213
CREATED:20221027T152407Z
LAST-MODIFIED:20230731T151559Z
UID:1366-1691742720-1691755200@stokeseniors.com
SUMMARY:Inter Club Match v Felixstowe - Constable
DESCRIPTION:
URL:https://stokeseniors.com/event/inter-club-match-v-felixstowe-constable/
END:VEVENT
BEGIN:VEVENT
DTSTART;TZID=UTC:20230809T083200
DTEND;TZID=UTC:20230809T170000
DTSTAMP:20260426T054213
CREATED:20221219T121407Z
LAST-MODIFIED:20221219T121407Z
UID:4180-1691569920-1691600400@stokeseniors.com
SUMMARY:Wednesday Swindle - Gainsborough
DESCRIPTION:
URL:https://stokeseniors.com/event/wednesday-swindle-gainsborough-13/
END:VEVENT
BEGIN:VEVENT
DTSTART;TZID=UTC:20230808T080000
DTEND;TZID=UTC:20230808T170000
DTSTAMP:20260426T054213
CREATED:20230317T121420Z
LAST-MODIFIED:20230718T080617Z
UID:6116-1691481600-1691514000@stokeseniors.com
SUMMARY:Inter Club Match v Stowmarket - Away
DESCRIPTION:
URL:https://stokeseniors.com/event/inter-club-match-v-stowmarket-away-2/
END:VEVENT
BEGIN:VEVENT
DTSTART;TZID=UTC:20230807T083200
DTEND;TZID=UTC:20230807T120000
DTSTAMP:20260426T054213
CREATED:20221018T103425Z
LAST-MODIFIED:20230701T135155Z
UID:1163-1691397120-1691409600@stokeseniors.com
SUMMARY:Senior's Captains Charity Day  - Constable
DESCRIPTION:
URL:https://stokeseniors.com/event/monthly-stableford-constable-4/
END:VEVENT
BEGIN:VEVENT
DTSTART;TZID=UTC:20230804T083200
DTEND;TZID=UTC:20230804T120000
DTSTAMP:20260426T054213
CREATED:20220804T152224Z
LAST-MODIFIED:20230629T180521Z
UID:1360-1691137920-1691150400@stokeseniors.com
SUMMARY:Inter Club Match v Benton Hall - Away
DESCRIPTION:
URL:https://stokeseniors.com/event/inter-club-match-v-benton-hall-away/
END:VEVENT
BEGIN:VEVENT
DTSTART;TZID=UTC:20230802T083200
DTEND;TZID=UTC:20230802T170000
DTSTAMP:20260426T054213
CREATED:20221219T102851Z
LAST-MODIFIED:20221219T102851Z
UID:4144-1690965120-1690995600@stokeseniors.com
SUMMARY:Wednesday Swindle - Constable
DESCRIPTION:
URL:https://stokeseniors.com/event/wednesday-swindle-constable-17/
END:VEVENT
BEGIN:VEVENT
DTSTART;TZID=UTC:20230802T083200
DTEND;TZID=UTC:20230802T120000
DTSTAMP:20260426T054213
CREATED:20221027T152331Z
LAST-MODIFIED:20230718T080829Z
UID:1364-1690965120-1690977600@stokeseniors.com
SUMMARY:Inter Club Match v Hintlesham - Away
DESCRIPTION:
URL:https://stokeseniors.com/event/inter-club-match-v-hintlesham-away/
END:VEVENT
BEGIN:VEVENT
DTSTART;TZID=UTC:20230727T083200
DTEND;TZID=UTC:20230727T120000
DTSTAMP:20260426T054213
CREATED:20221027T145337Z
LAST-MODIFIED:20230725T204259Z
UID:1300-1690446720-1690459200@stokeseniors.com
SUMMARY:Vets Inter Club Tournament - Gainsborough
DESCRIPTION:
URL:https://stokeseniors.com/event/vets-inter-club-tournament-gainsborough/
END:VEVENT
BEGIN:VEVENT
DTSTART;TZID=UTC:20230726T083200
DTEND;TZID=UTC:20230726T170000
DTSTAMP:20260426T054213
CREATED:20221219T121334Z
LAST-MODIFIED:20221219T121334Z
UID:4178-1690360320-1690390800@stokeseniors.com
SUMMARY:Wednesday Swindle - Gainsborough
DESCRIPTION:
URL:https://stokeseniors.com/event/wednesday-swindle-gainsborough-12/
END:VEVENT
BEGIN:VEVENT
DTSTART;TZID=UTC:20230726T083200
DTEND;TZID=UTC:20230726T120000
DTSTAMP:20260426T054213
CREATED:20221027T152258Z
LAST-MODIFIED:20230629T025648Z
UID:1362-1690360320-1690372800@stokeseniors.com
SUMMARY:Inter Club Match v Stowmarket - Constable
DESCRIPTION:
URL:https://stokeseniors.com/event/inter-club-match-v-stowmarket-constable/
END:VEVENT
BEGIN:VEVENT
DTSTART;TZID=UTC:20230719T083200
DTEND;TZID=UTC:20230719T120000
DTSTAMP:20260426T054213
CREATED:20221018T103323Z
LAST-MODIFIED:20230629T165632Z
UID:1161-1689755520-1689768000@stokeseniors.com
SUMMARY:Monthly Stableford & President's Prize - Constable
DESCRIPTION:
URL:https://stokeseniors.com/event/monthly-stableford-presidents-prize-constable/
END:VEVENT
BEGIN:VEVENT
DTSTART;TZID=UTC:20230717T083200
DTEND;TZID=UTC:20230717T170000
DTSTAMP:20260426T054213
CREATED:20221219T102826Z
LAST-MODIFIED:20221219T102826Z
UID:4142-1689582720-1689613200@stokeseniors.com
SUMMARY:Wednesday Swindle - Constable
DESCRIPTION:
URL:https://stokeseniors.com/event/wednesday-swindle-constable-16/
END:VEVENT
END:VCALENDAR