BEGIN:VCALENDAR
VERSION:2.0
PRODID:-//Stoke Seniors - ECPv6.15.17.1//NONSGML v1.0//EN
CALSCALE:GREGORIAN
METHOD:PUBLISH
X-ORIGINAL-URL:https://stokeseniors.com
X-WR-CALDESC:Events for Stoke Seniors
REFRESH-INTERVAL;VALUE=DURATION:PT1H
X-Robots-Tag:noindex
X-PUBLISHED-TTL:PT1H
BEGIN:VTIMEZONE
TZID:Europe/Paris
BEGIN:DAYLIGHT
TZOFFSETFROM:+0100
TZOFFSETTO:+0200
TZNAME:CEST
DTSTART:20250330T010000
END:DAYLIGHT
BEGIN:STANDARD
TZOFFSETFROM:+0200
TZOFFSETTO:+0100
TZNAME:CET
DTSTART:20251026T010000
END:STANDARD
BEGIN:DAYLIGHT
TZOFFSETFROM:+0100
TZOFFSETTO:+0200
TZNAME:CEST
DTSTART:20260329T010000
END:DAYLIGHT
BEGIN:STANDARD
TZOFFSETFROM:+0200
TZOFFSETTO:+0100
TZNAME:CET
DTSTART:20261025T010000
END:STANDARD
BEGIN:DAYLIGHT
TZOFFSETFROM:+0100
TZOFFSETTO:+0200
TZNAME:CEST
DTSTART:20270328T010000
END:DAYLIGHT
BEGIN:STANDARD
TZOFFSETFROM:+0200
TZOFFSETTO:+0100
TZNAME:CET
DTSTART:20271031T010000
END:STANDARD
END:VTIMEZONE
BEGIN:VEVENT
DTSTART;TZID=Europe/Paris:20260715T083200
DTEND;TZID=Europe/Paris:20260715T170000
DTSTAMP:20260424T075012
CREATED:20250913T145314Z
LAST-MODIFIED:20250913T145314Z
UID:21794-1784104320-1784134800@stokeseniors.com
SUMMARY:Monthly Stableford & President's Prize - Constable
DESCRIPTION:
URL:https://stokeseniors.com/event/monthly-stableford-presidents-prize-constable-4/
END:VEVENT
BEGIN:VEVENT
DTSTART;TZID=Europe/Paris:20260722T080000
DTEND;TZID=Europe/Paris:20260722T170000
DTSTAMP:20260424T075012
CREATED:20250917T090849Z
LAST-MODIFIED:20250917T090849Z
UID:21901-1784707200-1784739600@stokeseniors.com
SUMMARY:Inter Club Match v Stowmarket - Gainsborough
DESCRIPTION:
URL:https://stokeseniors.com/event/inter-club-match-v-stowmarket-gainsborough/
END:VEVENT
BEGIN:VEVENT
DTSTART;TZID=Europe/Paris:20260727T083200
DTEND;TZID=Europe/Paris:20260727T170000
DTSTAMP:20260424T075012
CREATED:20250913T150452Z
LAST-MODIFIED:20250913T150452Z
UID:21816-1785141120-1785171600@stokeseniors.com
SUMMARY:Senior Captain's Charity Day - Gainsborough
DESCRIPTION:
URL:https://stokeseniors.com/event/senior-captains-charity-day-gainsborough-2/
END:VEVENT
BEGIN:VEVENT
DTSTART;TZID=Europe/Paris:20260729T080000
DTEND;TZID=Europe/Paris:20260729T170000
DTSTAMP:20260424T075012
CREATED:20250917T090259Z
LAST-MODIFIED:20250917T092820Z
UID:21887-1785312000-1785344400@stokeseniors.com
SUMMARY:Inter Club Match v Hintlesham - Away
DESCRIPTION:
URL:https://stokeseniors.com/event/inter-club-match-v-hintlesham-away-4/
END:VEVENT
BEGIN:VEVENT
DTSTART;TZID=Europe/Paris:20260803T083200
DTEND;TZID=Europe/Paris:20260803T170000
DTSTAMP:20260424T075012
CREATED:20250913T145343Z
LAST-MODIFIED:20250913T145343Z
UID:21796-1785745920-1785776400@stokeseniors.com
SUMMARY:Monthly Stableford - Constable
DESCRIPTION:
URL:https://stokeseniors.com/event/monthly-stableford-constable-15/
END:VEVENT
BEGIN:VEVENT
DTSTART;TZID=Europe/Paris:20260807T080000
DTEND;TZID=Europe/Paris:20260807T170000
DTSTAMP:20260424T075012
CREATED:20250917T091413Z
LAST-MODIFIED:20250917T091413Z
UID:21917-1786089600-1786122000@stokeseniors.com
SUMMARY:Inter Club Match v Felixstowe - Constable
DESCRIPTION:
URL:https://stokeseniors.com/event/inter-club-match-v-felixstowe-constable-2/
END:VEVENT
BEGIN:VEVENT
DTSTART;TZID=Europe/Paris:20260812T083200
DTEND;TZID=Europe/Paris:20260812T170000
DTSTAMP:20260424T075012
CREATED:20250913T150540Z
LAST-MODIFIED:20250913T150540Z
UID:21818-1786523520-1786554000@stokeseniors.com
SUMMARY:Seniors Medal Cup & Bell - Constable
DESCRIPTION:
URL:https://stokeseniors.com/event/seniors-medal-cup-bell-constable-3/
END:VEVENT
BEGIN:VEVENT
DTSTART;TZID=Europe/Paris:20260813T080000
DTEND;TZID=Europe/Paris:20260813T170000
DTSTAMP:20260424T075012
CREATED:20250917T091445Z
LAST-MODIFIED:20250917T091445Z
UID:21919-1786608000-1786640400@stokeseniors.com
SUMMARY:Inter Club Match v Clacton - Constable
DESCRIPTION:
URL:https://stokeseniors.com/event/inter-club-match-v-clacton-constable-3/
END:VEVENT
BEGIN:VEVENT
DTSTART;TZID=Europe/Paris:20260819T080000
DTEND;TZID=Europe/Paris:20260819T170000
DTSTAMP:20260424T075012
CREATED:20250917T090928Z
LAST-MODIFIED:20250917T090928Z
UID:21903-1787126400-1787158800@stokeseniors.com
SUMMARY:Inter Club Match v Frinton - Gainsborough
DESCRIPTION:
URL:https://stokeseniors.com/event/inter-club-match-v-frinton-gainsborough/
END:VEVENT
BEGIN:VEVENT
DTSTART;TZID=Europe/Paris:20260821T080000
DTEND;TZID=Europe/Paris:20260821T170000
DTSTAMP:20260424T075012
CREATED:20250917T091526Z
LAST-MODIFIED:20250917T091526Z
UID:21921-1787299200-1787331600@stokeseniors.com
SUMMARY:Inter Club Match v Colne Valley - Constable
DESCRIPTION:
URL:https://stokeseniors.com/event/inter-club-match-v-colne-valley-constable/
END:VEVENT
BEGIN:VEVENT
DTSTART;TZID=Europe/Paris:20260826T080000
DTEND;TZID=Europe/Paris:20260826T170000
DTSTAMP:20260424T075012
CREATED:20250917T091558Z
LAST-MODIFIED:20250917T091558Z
UID:21923-1787731200-1787763600@stokeseniors.com
SUMMARY:Inter Club Match v Haverhill - Constable
DESCRIPTION:
URL:https://stokeseniors.com/event/inter-club-match-v-haverhill-constable-4/
END:VEVENT
BEGIN:VEVENT
DTSTART;TZID=Europe/Paris:20260902T080000
DTEND;TZID=Europe/Paris:20260902T170000
DTSTAMP:20260424T075013
CREATED:20250917T091004Z
LAST-MODIFIED:20250917T091004Z
UID:21905-1788336000-1788368400@stokeseniors.com
SUMMARY:Inter Club Match v Newton Green - Gainsborough
DESCRIPTION:
URL:https://stokeseniors.com/event/inter-club-match-v-newton-green-gainsborough-4/
END:VEVENT
BEGIN:VEVENT
DTSTART;TZID=Europe/Paris:20260907T083200
DTEND;TZID=Europe/Paris:20260907T170000
DTSTAMP:20260424T075013
CREATED:20250913T145427Z
LAST-MODIFIED:20250913T145427Z
UID:21798-1788769920-1788800400@stokeseniors.com
SUMMARY:Monthly Stableford & Senior Cup - Constable
DESCRIPTION:
URL:https://stokeseniors.com/event/monthly-stableford-senior-cup-constable-2/
END:VEVENT
BEGIN:VEVENT
DTSTART;TZID=Europe/Paris:20260910T080000
DTEND;TZID=Europe/Paris:20260910T170000
DTSTAMP:20260424T075013
CREATED:20250917T091041Z
LAST-MODIFIED:20250917T091041Z
UID:21907-1789027200-1789059600@stokeseniors.com
SUMMARY:Inter Club Match v Braintree
DESCRIPTION:
URL:https://stokeseniors.com/event/inter-club-match-v-braintree/
END:VEVENT
BEGIN:VEVENT
DTSTART;TZID=Europe/Paris:20260914T083200
DTEND;TZID=Europe/Paris:20260914T170000
DTSTAMP:20260424T075013
CREATED:20250913T150638Z
LAST-MODIFIED:20250913T150638Z
UID:21820-1789374720-1789405200@stokeseniors.com
SUMMARY:Suffolk v Essex - Gainsborough
DESCRIPTION:
URL:https://stokeseniors.com/event/suffolk-v-essex-gainsborough-3/
END:VEVENT
BEGIN:VEVENT
DTSTART;TZID=Europe/Paris:20260921T080000
DTEND;TZID=Europe/Paris:20260921T170000
DTSTAMP:20260424T075013
CREATED:20250917T090431Z
LAST-MODIFIED:20250917T090431Z
UID:21891-1789977600-1790010000@stokeseniors.com
SUMMARY:Inter Club Match v Clacton - Away
DESCRIPTION:
URL:https://stokeseniors.com/event/inter-club-match-v-clacton-away-3/
END:VEVENT
BEGIN:VEVENT
DTSTART;TZID=Europe/Paris:20260925T083200
DTEND;TZID=Europe/Paris:20260925T170000
DTSTAMP:20260424T075013
CREATED:20250913T150723Z
LAST-MODIFIED:20250913T150723Z
UID:21822-1790325120-1790355600@stokeseniors.com
SUMMARY:Seniors' Invitation Day - Gainsborough
DESCRIPTION:
URL:https://stokeseniors.com/event/seniors-invitation-day-gainsborough/
END:VEVENT
BEGIN:VEVENT
DTSTART;TZID=Europe/Paris:20260928T080000
DTEND;TZID=Europe/Paris:20260928T170000
DTSTAMP:20260424T075013
CREATED:20250917T091118Z
LAST-MODIFIED:20250917T091118Z
UID:21909-1790582400-1790614800@stokeseniors.com
SUMMARY:Inter Club Match v Rookery Park - Gainsborough
DESCRIPTION:
URL:https://stokeseniors.com/event/inter-club-match-v-rookery-park-gainsborough/
END:VEVENT
BEGIN:VEVENT
DTSTART;TZID=Europe/Paris:20260930T083200
DTEND;TZID=Europe/Paris:20260930T170000
DTSTAMP:20260424T075013
CREATED:20250913T150811Z
LAST-MODIFIED:20250913T150811Z
UID:21824-1790757120-1790787600@stokeseniors.com
SUMMARY:St Andrews Greensomes - Gainsborough
DESCRIPTION:
URL:https://stokeseniors.com/event/st-andrews-greensomes-gainsborough-4/
END:VEVENT
BEGIN:VEVENT
DTSTART;TZID=Europe/Paris:20261006T083200
DTEND;TZID=Europe/Paris:20261006T170000
DTSTAMP:20260424T075013
CREATED:20250913T145044Z
LAST-MODIFIED:20250913T145044Z
UID:21788-1791275520-1791306000@stokeseniors.com
SUMMARY:Monthly Stableford & Millennium Trophy - Gainsborough
DESCRIPTION:
URL:https://stokeseniors.com/event/monthly-stableford-millennium-trophy-gainsborough-4/
END:VEVENT
BEGIN:VEVENT
DTSTART;TZID=Europe/Paris:20261021T083200
DTEND;TZID=Europe/Paris:20261021T170000
DTSTAMP:20260424T075013
CREATED:20250913T150851Z
LAST-MODIFIED:20250913T150851Z
UID:21826-1792571520-1792602000@stokeseniors.com
SUMMARY:Bogey Competition - Gainsborough
DESCRIPTION:
URL:https://stokeseniors.com/event/bogey-competition-gainsborough-2/
END:VEVENT
BEGIN:VEVENT
DTSTART;TZID=Europe/Paris:20261026T083200
DTEND;TZID=Europe/Paris:20261026T170000
DTSTAMP:20260424T075013
CREATED:20250913T150944Z
LAST-MODIFIED:20250913T150944Z
UID:21828-1793003520-1793034000@stokeseniors.com
SUMMARY:3 Captains Competition - Gainsborough
DESCRIPTION:
URL:https://stokeseniors.com/event/3-captains-competition-gainsborough/
END:VEVENT
BEGIN:VEVENT
DTSTART;TZID=Europe/Paris:20261102T083200
DTEND;TZID=Europe/Paris:20261102T170000
DTSTAMP:20260424T075013
CREATED:20250913T145540Z
LAST-MODIFIED:20250913T145540Z
UID:21800-1793608320-1793638800@stokeseniors.com
SUMMARY:Senior Captains' Drive In & Monthly Stableford - Gainsborough
DESCRIPTION:
URL:https://stokeseniors.com/event/senior-captains-drive-in-monthly-stableford-gainsborough/
END:VEVENT
BEGIN:VEVENT
DTSTART;TZID=Europe/Paris:20261111T083200
DTEND;TZID=Europe/Paris:20261111T170000
DTSTAMP:20260424T075013
CREATED:20250913T151025Z
LAST-MODIFIED:20250913T151025Z
UID:21830-1794385920-1794416400@stokeseniors.com
SUMMARY:HI LO Pairs - Gainsborough
DESCRIPTION:
URL:https://stokeseniors.com/event/hi-lo-pairs-gainsborough-2/
END:VEVENT
BEGIN:VEVENT
DTSTART;TZID=Europe/Paris:20261123T083200
DTEND;TZID=Europe/Paris:20261123T170000
DTSTAMP:20260424T075013
CREATED:20250913T151115Z
LAST-MODIFIED:20250913T151115Z
UID:21832-1795422720-1795453200@stokeseniors.com
SUMMARY:Lady Vets & Seniors Christmas Mixed - Gainsborough
DESCRIPTION:
URL:https://stokeseniors.com/event/lady-vets-seniors-christmas-mixed-gainsborough-3/
END:VEVENT
BEGIN:VEVENT
DTSTART;TZID=Europe/Paris:20261202T083200
DTEND;TZID=Europe/Paris:20261202T170000
DTSTAMP:20260424T075013
CREATED:20250913T145121Z
LAST-MODIFIED:20250913T145121Z
UID:21790-1796200320-1796230800@stokeseniors.com
SUMMARY:Monthly Stableford - Gainsborough
DESCRIPTION:
URL:https://stokeseniors.com/event/monthly-stableford-gainsborough-13/
END:VEVENT
BEGIN:VEVENT
DTSTART;TZID=Europe/Paris:20261209T083200
DTEND;TZID=Europe/Paris:20261209T170000
DTSTAMP:20260424T075013
CREATED:20250913T151155Z
LAST-MODIFIED:20250913T151155Z
UID:21834-1796805120-1796835600@stokeseniors.com
SUMMARY:Yuletide Scramble - Gainsborough
DESCRIPTION:
URL:https://stokeseniors.com/event/yuletide-scramble-gainsborough-3/
END:VEVENT
END:VCALENDAR