BEGIN:VCALENDAR
VERSION:2.0
PRODID:-//Stoke Seniors - ECPv6.15.17.1//NONSGML v1.0//EN
CALSCALE:GREGORIAN
METHOD:PUBLISH
X-ORIGINAL-URL:https://stokeseniors.com
X-WR-CALDESC:Events for Stoke Seniors
REFRESH-INTERVAL;VALUE=DURATION:PT1H
X-Robots-Tag:noindex
X-PUBLISHED-TTL:PT1H
BEGIN:VTIMEZONE
TZID:UTC
BEGIN:STANDARD
TZOFFSETFROM:+0000
TZOFFSETTO:+0000
TZNAME:UTC
DTSTART:20240101T000000
END:STANDARD
END:VTIMEZONE
BEGIN:VTIMEZONE
TZID:Europe/Paris
BEGIN:DAYLIGHT
TZOFFSETFROM:+0100
TZOFFSETTO:+0200
TZNAME:CEST
DTSTART:20240331T010000
END:DAYLIGHT
BEGIN:STANDARD
TZOFFSETFROM:+0200
TZOFFSETTO:+0100
TZNAME:CET
DTSTART:20241027T010000
END:STANDARD
BEGIN:DAYLIGHT
TZOFFSETFROM:+0100
TZOFFSETTO:+0200
TZNAME:CEST
DTSTART:20250330T010000
END:DAYLIGHT
BEGIN:STANDARD
TZOFFSETFROM:+0200
TZOFFSETTO:+0100
TZNAME:CET
DTSTART:20251026T010000
END:STANDARD
BEGIN:DAYLIGHT
TZOFFSETFROM:+0100
TZOFFSETTO:+0200
TZNAME:CEST
DTSTART:20260329T010000
END:DAYLIGHT
BEGIN:STANDARD
TZOFFSETFROM:+0200
TZOFFSETTO:+0100
TZNAME:CET
DTSTART:20261025T010000
END:STANDARD
END:VTIMEZONE
BEGIN:VEVENT
DTSTART;TZID=UTC:20251022T083200
DTEND;TZID=UTC:20251022T170000
DTSTAMP:20260424T131705
CREATED:20241001T103219Z
LAST-MODIFIED:20250927T092213Z
UID:17180-1761121920-1761152400@stokeseniors.com
SUMMARY:Bogey Competition - Gainsborough
DESCRIPTION:
URL:https://stokeseniors.com/event/bogey-competition-gainsborough/
END:VEVENT
BEGIN:VEVENT
DTSTART;TZID=UTC:20251020T083200
DTEND;TZID=UTC:20251020T170000
DTSTAMP:20260424T131705
CREATED:20241128T124654Z
LAST-MODIFIED:20241128T124654Z
UID:18510-1760949120-1760979600@stokeseniors.com
SUMMARY:Wednesday Swindle - Constable
DESCRIPTION:
URL:https://stokeseniors.com/event/wednesday-swindle-constable-65/
END:VEVENT
BEGIN:VEVENT
DTSTART;TZID=UTC:20251015T083200
DTEND;TZID=UTC:20251015T170000
DTSTAMP:20260424T131705
CREATED:20241128T123658Z
LAST-MODIFIED:20241128T123658Z
UID:18466-1760517120-1760547600@stokeseniors.com
SUMMARY:Wednesday Swindle - Gainsborough
DESCRIPTION:
URL:https://stokeseniors.com/event/wednesday-swindle-gainsborough-52/
END:VEVENT
BEGIN:VEVENT
DTSTART;TZID=UTC:20251010T083200
DTEND;TZID=UTC:20251010T170000
DTSTAMP:20260424T131705
CREATED:20241128T124626Z
LAST-MODIFIED:20250929T064136Z
UID:18508-1760085120-1760115600@stokeseniors.com
SUMMARY:Wednesday Swindle - Gainsborough
DESCRIPTION:
URL:https://stokeseniors.com/event/wednesday-swindle-constable-64/
END:VEVENT
BEGIN:VEVENT
DTSTART;TZID=UTC:20251008T080000
DTEND;TZID=UTC:20251008T170000
DTSTAMP:20260424T131705
CREATED:20241001T121805Z
LAST-MODIFIED:20250918T125039Z
UID:17275-1759910400-1759942800@stokeseniors.com
SUMMARY:Inter Club Match v The Essex - Gainsborough
DESCRIPTION:
URL:https://stokeseniors.com/event/inter-club-match-v-the-essex-constable/
END:VEVENT
BEGIN:VEVENT
DTSTART;TZID=UTC:20251006T083200
DTEND;TZID=UTC:20251006T170000
DTSTAMP:20260424T131705
CREATED:20241001T101659Z
LAST-MODIFIED:20241001T101659Z
UID:17144-1759739520-1759770000@stokeseniors.com
SUMMARY:Monthly Stableford & Millennium Trophy - Gainsborough
DESCRIPTION:
URL:https://stokeseniors.com/event/monthly-stableford-millennium-trophy-gainsborough-3/
END:VEVENT
BEGIN:VEVENT
DTSTART;TZID=UTC:20251001T083200
DTEND;TZID=UTC:20251001T170000
DTSTAMP:20260424T131705
CREATED:20241001T103139Z
LAST-MODIFIED:20250904T082445Z
UID:17178-1759307520-1759338000@stokeseniors.com
SUMMARY:St Andrews Greensomes - Gainsborough
DESCRIPTION:
URL:https://stokeseniors.com/event/st-andrews-greensomes-gainsborough-3/
END:VEVENT
BEGIN:VEVENT
DTSTART;TZID=UTC:20250926T083200
DTEND;TZID=UTC:20250926T170000
DTSTAMP:20260424T131705
CREATED:20241001T103055Z
LAST-MODIFIED:20250906T135928Z
UID:17176-1758875520-1758906000@stokeseniors.com
SUMMARY:Senior's Guest Day - Shotgun Start - Gainsborough
DESCRIPTION:
URL:https://stokeseniors.com/event/seniors-guest-day-shotgun-start-gainsborough/
END:VEVENT
BEGIN:VEVENT
DTSTART;TZID=UTC:20250924T083200
DTEND;TZID=UTC:20250924T170000
DTSTAMP:20260424T131705
CREATED:20241128T123630Z
LAST-MODIFIED:20241128T123630Z
UID:18464-1758702720-1758733200@stokeseniors.com
SUMMARY:Wednesday Swindle - Gainsborough
DESCRIPTION:
URL:https://stokeseniors.com/event/wednesday-swindle-gainsborough-51/
END:VEVENT
BEGIN:VEVENT
DTSTART;TZID=UTC:20250922T080000
DTEND;TZID=UTC:20250922T170000
DTSTAMP:20260424T131705
CREATED:20241001T120749Z
LAST-MODIFIED:20250901T173458Z
UID:17245-1758528000-1758560400@stokeseniors.com
SUMMARY:Inter Club Match v Clacton - Away
DESCRIPTION:
URL:https://stokeseniors.com/event/inter-club-match-v-clacton-away-2/
END:VEVENT
BEGIN:VEVENT
DTSTART;TZID=UTC:20250917T083200
DTEND;TZID=UTC:20250917T170000
DTSTAMP:20260424T131705
CREATED:20241128T124600Z
LAST-MODIFIED:20241128T124600Z
UID:18506-1758097920-1758128400@stokeseniors.com
SUMMARY:Wednesday Swindle - Constable
DESCRIPTION:
URL:https://stokeseniors.com/event/wednesday-swindle-constable-63/
END:VEVENT
BEGIN:VEVENT
DTSTART;TZID=UTC:20250916T100000
DTEND;TZID=UTC:20250916T170000
DTSTAMP:20260424T131705
CREATED:20250216T135150Z
LAST-MODIFIED:20250906T135055Z
UID:19023-1758016800-1758042000@stokeseniors.com
SUMMARY:Past Senior Captains Match - Haverhill GC
DESCRIPTION:
URL:https://stokeseniors.com/event/past-senior-captains-match-haverhill-gc/
END:VEVENT
BEGIN:VEVENT
DTSTART;TZID=UTC:20250915T083200
DTEND;TZID=UTC:20250915T170000
DTSTAMP:20260424T131705
CREATED:20241001T102951Z
LAST-MODIFIED:20250824T180606Z
UID:17174-1757925120-1757955600@stokeseniors.com
SUMMARY:Suffolk v Essex - Hambro Scoring - Gainsborough
DESCRIPTION:
URL:https://stokeseniors.com/event/suffolk-v-essex-hambro-scoring-gainsborough/
END:VEVENT
BEGIN:VEVENT
DTSTART;TZID=UTC:20250911T080000
DTEND;TZID=UTC:20250911T170000
DTSTAMP:20260424T131705
CREATED:20241001T121347Z
LAST-MODIFIED:20250821T101556Z
UID:17265-1757577600-1757610000@stokeseniors.com
SUMMARY:Inter Club Match v Braintree - Gainsborough
DESCRIPTION:
URL:https://stokeseniors.com/event/inter-club-match-v-braintree-gainsborough/
END:VEVENT
BEGIN:VEVENT
DTSTART;TZID=Europe/Paris:20250910T080000
DTEND;TZID=Europe/Paris:20250910T170000
DTSTAMP:20260424T131705
CREATED:20250903T091249Z
LAST-MODIFIED:20250903T091249Z
UID:21561-1757491200-1757523600@stokeseniors.com
SUMMARY:Wednesday Swindle - Gainsborough
DESCRIPTION:
URL:https://stokeseniors.com/event/wednesday-swindle-gainsborough-50/
END:VEVENT
BEGIN:VEVENT
DTSTART;TZID=UTC:20250908T083200
DTEND;TZID=UTC:20250908T170000
DTSTAMP:20260424T131705
CREATED:20241001T101452Z
LAST-MODIFIED:20250824T175551Z
UID:17142-1757320320-1757350800@stokeseniors.com
SUMMARY:Monthly Stableford & Seniors Cup - Constable
DESCRIPTION:
URL:https://stokeseniors.com/event/monthly-stableford-seniors-cup-constable-2/
END:VEVENT
BEGIN:VEVENT
DTSTART;TZID=UTC:20250905T180000
DTEND;TZID=UTC:20250905T180000
DTSTAMP:20260424T131705
CREATED:20250316T104015Z
LAST-MODIFIED:20250316T104024Z
UID:19443-1757095200-1757095200@stokeseniors.com
SUMMARY:Friday Night Mixed
DESCRIPTION:
URL:https://stokeseniors.com/event/friday-night-mixed-12/
END:VEVENT
BEGIN:VEVENT
DTSTART;TZID=UTC:20250903T080000
DTEND;TZID=UTC:20250903T170000
DTSTAMP:20260424T131705
CREATED:20241001T121319Z
LAST-MODIFIED:20250814T075009Z
UID:17263-1756886400-1756918800@stokeseniors.com
SUMMARY:Inter Club Match v Newton Green - Gainsborough
DESCRIPTION:
URL:https://stokeseniors.com/event/inter-club-match-v-newton-green-gainsborough-2/
END:VEVENT
BEGIN:VEVENT
DTSTART;TZID=UTC:20250901T083200
DTEND;TZID=UTC:20250901T170000
DTSTAMP:20260424T131705
CREATED:20241128T124537Z
LAST-MODIFIED:20241128T124537Z
UID:18504-1756715520-1756746000@stokeseniors.com
SUMMARY:Wednesday Swindle - Constable
DESCRIPTION:
URL:https://stokeseniors.com/event/wednesday-swindle-constable-62/
END:VEVENT
BEGIN:VEVENT
DTSTART;TZID=UTC:20250828T130000
DTEND;TZID=UTC:20250828T170000
DTSTAMP:20260424T131705
CREATED:20250130T072813Z
LAST-MODIFIED:20250814T074339Z
UID:18812-1756386000-1756400400@stokeseniors.com
SUMMARY:Committee Cup - Burnham-on-Crouch
DESCRIPTION:
URL:https://stokeseniors.com/event/committee-cup-burnham-on-crouch/
END:VEVENT
BEGIN:VEVENT
DTSTART;TZID=UTC:20250827T080000
DTEND;TZID=UTC:20250827T170000
DTSTAMP:20260424T131705
CREATED:20241001T121724Z
LAST-MODIFIED:20250812T165929Z
UID:17273-1756281600-1756314000@stokeseniors.com
SUMMARY:Inter Club Match v Haverhill - Constable
DESCRIPTION:
URL:https://stokeseniors.com/event/inter-club-match-v-haverhill-constable-2/
END:VEVENT
BEGIN:VEVENT
DTSTART;TZID=UTC:20250822T080000
DTEND;TZID=UTC:20250822T170000
DTSTAMP:20260424T131705
CREATED:20241001T121250Z
LAST-MODIFIED:20250807T180946Z
UID:17261-1755849600-1755882000@stokeseniors.com
SUMMARY:Inter Club Match v Ipswich - Constable
DESCRIPTION:
URL:https://stokeseniors.com/event/inter-club-match-v-ipswich-gainsborough/
END:VEVENT
BEGIN:VEVENT
DTSTART;TZID=UTC:20250820T080000
DTEND;TZID=UTC:20250820T170000
DTSTAMP:20260424T131705
CREATED:20241001T121649Z
LAST-MODIFIED:20250803T163422Z
UID:17271-1755676800-1755709200@stokeseniors.com
SUMMARY:Inter Club Match v Frinton - Constable
DESCRIPTION:
URL:https://stokeseniors.com/event/inter-club-match-v-frinton-constable-2/
END:VEVENT
BEGIN:VEVENT
DTSTART;TZID=UTC:20250818T080000
DTEND;TZID=UTC:20250818T170000
DTSTAMP:20260424T131705
CREATED:20241128T123522Z
LAST-MODIFIED:20250814T124111Z
UID:18460-1755504000-1755536400@stokeseniors.com
SUMMARY:Wednesday Swindle - Constable
DESCRIPTION:
URL:https://stokeseniors.com/event/wednesday-swindle-gainsborough-49/
END:VEVENT
BEGIN:VEVENT
DTSTART;TZID=UTC:20250815T083200
DTEND;TZID=UTC:20250815T170000
DTSTAMP:20260424T131705
CREATED:20241128T124448Z
LAST-MODIFIED:20241128T124448Z
UID:18500-1755246720-1755277200@stokeseniors.com
SUMMARY:Wednesday Swindle - Constable
DESCRIPTION:
URL:https://stokeseniors.com/event/wednesday-swindle-constable-60/
END:VEVENT
BEGIN:VEVENT
DTSTART;TZID=UTC:20250814T080000
DTEND;TZID=UTC:20250814T170000
DTSTAMP:20260424T131705
CREATED:20241001T121219Z
LAST-MODIFIED:20250731T122937Z
UID:17259-1755158400-1755190800@stokeseniors.com
SUMMARY:Inter Club Match v Clacton - Gainsborough
DESCRIPTION:
URL:https://stokeseniors.com/event/inter-club-match-v-clacton-gainsborough-2/
END:VEVENT
BEGIN:VEVENT
DTSTART;TZID=UTC:20250813T083200
DTEND;TZID=UTC:20250813T170000
DTSTAMP:20260424T131705
CREATED:20241001T102852Z
LAST-MODIFIED:20250731T124623Z
UID:17172-1755073920-1755104400@stokeseniors.com
SUMMARY:Medal Cup & Bell - Constable
DESCRIPTION:
URL:https://stokeseniors.com/event/medal-cup-bell-constable/
END:VEVENT
BEGIN:VEVENT
DTSTART;TZID=UTC:20250808T180000
DTEND;TZID=UTC:20250808T180000
DTSTAMP:20260424T131705
CREATED:20250316T103904Z
LAST-MODIFIED:20250316T103912Z
UID:19441-1754676000-1754676000@stokeseniors.com
SUMMARY:Friday Night Mixed
DESCRIPTION:
URL:https://stokeseniors.com/event/friday-night-mixed-11/
END:VEVENT
BEGIN:VEVENT
DTSTART;TZID=UTC:20250808T080000
DTEND;TZID=UTC:20250808T170000
DTSTAMP:20260424T131705
CREATED:20241001T121149Z
LAST-MODIFIED:20250724T155150Z
UID:17257-1754640000-1754672400@stokeseniors.com
SUMMARY:Inter Club Match v Felixstowe - Gainsborough
DESCRIPTION:
URL:https://stokeseniors.com/event/inter-club-match-v-felixstowe-gainsborough/
END:VEVENT
BEGIN:VEVENT
DTSTART;TZID=UTC:20250806T083200
DTEND;TZID=UTC:20250806T170000
DTSTAMP:20260424T131705
CREATED:20241128T123457Z
LAST-MODIFIED:20241128T123457Z
UID:18458-1754469120-1754499600@stokeseniors.com
SUMMARY:Wednesday Swindle - Gainsborough
DESCRIPTION:
URL:https://stokeseniors.com/event/wednesday-swindle-gainsborough-48/
END:VEVENT
END:VCALENDAR