BEGIN:VCALENDAR
VERSION:2.0
PRODID:-//Stoke Seniors - ECPv6.15.17.1//NONSGML v1.0//EN
CALSCALE:GREGORIAN
METHOD:PUBLISH
X-WR-CALNAME:Stoke Seniors
X-ORIGINAL-URL:https://stokeseniors.com
X-WR-CALDESC:Events for Stoke Seniors
REFRESH-INTERVAL;VALUE=DURATION:PT1H
X-Robots-Tag:noindex
X-PUBLISHED-TTL:PT1H
BEGIN:VTIMEZONE
TZID:UTC
BEGIN:STANDARD
TZOFFSETFROM:+0000
TZOFFSETTO:+0000
TZNAME:UTC
DTSTART:20240101T000000
END:STANDARD
END:VTIMEZONE
BEGIN:VTIMEZONE
TZID:Europe/Paris
BEGIN:DAYLIGHT
TZOFFSETFROM:+0100
TZOFFSETTO:+0200
TZNAME:CEST
DTSTART:20240331T010000
END:DAYLIGHT
BEGIN:STANDARD
TZOFFSETFROM:+0200
TZOFFSETTO:+0100
TZNAME:CET
DTSTART:20241027T010000
END:STANDARD
BEGIN:DAYLIGHT
TZOFFSETFROM:+0100
TZOFFSETTO:+0200
TZNAME:CEST
DTSTART:20250330T010000
END:DAYLIGHT
BEGIN:STANDARD
TZOFFSETFROM:+0200
TZOFFSETTO:+0100
TZNAME:CET
DTSTART:20251026T010000
END:STANDARD
BEGIN:DAYLIGHT
TZOFFSETFROM:+0100
TZOFFSETTO:+0200
TZNAME:CEST
DTSTART:20260329T010000
END:DAYLIGHT
BEGIN:STANDARD
TZOFFSETFROM:+0200
TZOFFSETTO:+0100
TZNAME:CET
DTSTART:20261025T010000
END:STANDARD
END:VTIMEZONE
BEGIN:VEVENT
DTSTART;TZID=UTC:20250815T083200
DTEND;TZID=UTC:20250815T170000
DTSTAMP:20260424T150512
CREATED:20241128T124448Z
LAST-MODIFIED:20241128T124448Z
UID:18500-1755246720-1755277200@stokeseniors.com
SUMMARY:Wednesday Swindle - Constable
DESCRIPTION:
URL:https://stokeseniors.com/event/wednesday-swindle-constable-60/
END:VEVENT
BEGIN:VEVENT
DTSTART;TZID=UTC:20250814T080000
DTEND;TZID=UTC:20250814T170000
DTSTAMP:20260424T150512
CREATED:20241001T121219Z
LAST-MODIFIED:20250731T122937Z
UID:17259-1755158400-1755190800@stokeseniors.com
SUMMARY:Inter Club Match v Clacton - Gainsborough
DESCRIPTION:
URL:https://stokeseniors.com/event/inter-club-match-v-clacton-gainsborough-2/
END:VEVENT
BEGIN:VEVENT
DTSTART;TZID=UTC:20250813T083200
DTEND;TZID=UTC:20250813T170000
DTSTAMP:20260424T150512
CREATED:20241001T102852Z
LAST-MODIFIED:20250731T124623Z
UID:17172-1755073920-1755104400@stokeseniors.com
SUMMARY:Medal Cup & Bell - Constable
DESCRIPTION:
URL:https://stokeseniors.com/event/medal-cup-bell-constable/
END:VEVENT
BEGIN:VEVENT
DTSTART;TZID=UTC:20250808T180000
DTEND;TZID=UTC:20250808T180000
DTSTAMP:20260424T150512
CREATED:20250316T103904Z
LAST-MODIFIED:20250316T103912Z
UID:19441-1754676000-1754676000@stokeseniors.com
SUMMARY:Friday Night Mixed
DESCRIPTION:
URL:https://stokeseniors.com/event/friday-night-mixed-11/
END:VEVENT
BEGIN:VEVENT
DTSTART;TZID=UTC:20250808T080000
DTEND;TZID=UTC:20250808T170000
DTSTAMP:20260424T150512
CREATED:20241001T121149Z
LAST-MODIFIED:20250724T155150Z
UID:17257-1754640000-1754672400@stokeseniors.com
SUMMARY:Inter Club Match v Felixstowe - Gainsborough
DESCRIPTION:
URL:https://stokeseniors.com/event/inter-club-match-v-felixstowe-gainsborough/
END:VEVENT
BEGIN:VEVENT
DTSTART;TZID=UTC:20250806T083200
DTEND;TZID=UTC:20250806T170000
DTSTAMP:20260424T150512
CREATED:20241128T123457Z
LAST-MODIFIED:20241128T123457Z
UID:18458-1754469120-1754499600@stokeseniors.com
SUMMARY:Wednesday Swindle - Gainsborough
DESCRIPTION:
URL:https://stokeseniors.com/event/wednesday-swindle-gainsborough-48/
END:VEVENT
BEGIN:VEVENT
DTSTART;TZID=UTC:20250804T083200
DTEND;TZID=UTC:20250804T170000
DTSTAMP:20260424T150512
CREATED:20241001T101401Z
LAST-MODIFIED:20250708T182631Z
UID:17140-1754296320-1754326800@stokeseniors.com
SUMMARY:Monthly Stableford - Constable
DESCRIPTION:
URL:https://stokeseniors.com/event/monthly-stableford-constable-13/
END:VEVENT
BEGIN:VEVENT
DTSTART;TZID=UTC:20250801T080000
DTEND;TZID=UTC:20250801T170000
DTSTAMP:20260424T150512
CREATED:20241001T120644Z
LAST-MODIFIED:20250711T134937Z
UID:17241-1754035200-1754067600@stokeseniors.com
SUMMARY:Inter Club Match v Benton Hall - Away
DESCRIPTION:
URL:https://stokeseniors.com/event/inter-club-match-v-benton-hall-away-2/
END:VEVENT
BEGIN:VEVENT
DTSTART;TZID=UTC:20250730T080000
DTEND;TZID=UTC:20250730T170000
DTSTAMP:20260424T150512
CREATED:20241001T120615Z
LAST-MODIFIED:20250705T084135Z
UID:17239-1753862400-1753894800@stokeseniors.com
SUMMARY:Inter Club Match v Hintlesham - Away
DESCRIPTION:
URL:https://stokeseniors.com/event/inter-club-match-v-hintlesham-away-3/
END:VEVENT
BEGIN:VEVENT
DTSTART;TZID=UTC:20250728T083200
DTEND;TZID=UTC:20250728T170000
DTSTAMP:20260424T150512
CREATED:20241001T102748Z
LAST-MODIFIED:20250702T082856Z
UID:17170-1753691520-1753722000@stokeseniors.com
SUMMARY:Senior Captains Charity Day - Shotgun Start - Gainsborough
DESCRIPTION:
URL:https://stokeseniors.com/event/senior-captains-charity-day-shotgun-start-gainsborough/
END:VEVENT
BEGIN:VEVENT
DTSTART;TZID=UTC:20250725T083200
DTEND;TZID=UTC:20250725T170000
DTSTAMP:20260424T150512
CREATED:20241128T123430Z
LAST-MODIFIED:20241128T123430Z
UID:18456-1753432320-1753462800@stokeseniors.com
SUMMARY:Wednesday Swindle - Gainsborough
DESCRIPTION:
URL:https://stokeseniors.com/event/wednesday-swindle-gainsborough-47/
END:VEVENT
BEGIN:VEVENT
DTSTART;TZID=UTC:20250723T080000
DTEND;TZID=UTC:20250723T170000
DTSTAMP:20260424T150512
CREATED:20241001T121611Z
LAST-MODIFIED:20250627T153744Z
UID:17269-1753257600-1753290000@stokeseniors.com
SUMMARY:Inter Club Match v Stowmarket - Constable
DESCRIPTION:
URL:https://stokeseniors.com/event/inter-club-match-v-stowmarket-constable-3/
END:VEVENT
BEGIN:VEVENT
DTSTART;TZID=Europe/Paris:20250721T080000
DTEND;TZID=Europe/Paris:20250721T170000
DTSTAMP:20260424T150512
CREATED:20250604T165554Z
LAST-MODIFIED:20250604T165554Z
UID:20595-1753084800-1753117200@stokeseniors.com
SUMMARY:VICT Tournament - Braintree GC
DESCRIPTION:
URL:https://stokeseniors.com/event/vict-tournament-braintree-gc/
END:VEVENT
BEGIN:VEVENT
DTSTART;TZID=UTC:20250714T083200
DTEND;TZID=UTC:20250714T170000
DTSTAMP:20260424T150512
CREATED:20241128T124418Z
LAST-MODIFIED:20241128T124418Z
UID:18498-1752481920-1752512400@stokeseniors.com
SUMMARY:Wednesday Swindle - Constable
DESCRIPTION:
URL:https://stokeseniors.com/event/wednesday-swindle-constable-59/
END:VEVENT
BEGIN:VEVENT
DTSTART;TZID=UTC:20250709T083200
DTEND;TZID=UTC:20250709T170000
DTSTAMP:20260424T150512
CREATED:20241001T101321Z
LAST-MODIFIED:20250616T173732Z
UID:17138-1752049920-1752080400@stokeseniors.com
SUMMARY:Monthly Stableford & President's Prize - Gainsborough
DESCRIPTION:
URL:https://stokeseniors.com/event/monthly-stableford-presidents-prize-constable-3/
END:VEVENT
BEGIN:VEVENT
DTSTART;TZID=UTC:20250704T180000
DTEND;TZID=UTC:20250704T180000
DTSTAMP:20260424T150512
CREATED:20250316T103806Z
LAST-MODIFIED:20250316T103815Z
UID:19439-1751652000-1751652000@stokeseniors.com
SUMMARY:Friday Night Mixed
DESCRIPTION:
URL:https://stokeseniors.com/event/friday-night-mixed-10/
END:VEVENT
BEGIN:VEVENT
DTSTART;TZID=UTC:20250702T083200
DTEND;TZID=UTC:20250702T170000
DTSTAMP:20260424T150512
CREATED:20241128T123405Z
LAST-MODIFIED:20241128T123405Z
UID:18454-1751445120-1751475600@stokeseniors.com
SUMMARY:Wednesday Swindle - Gainsborough
DESCRIPTION:
URL:https://stokeseniors.com/event/wednesday-swindle-gainsborough-46/
END:VEVENT
BEGIN:VEVENT
DTSTART;TZID=UTC:20250627T083200
DTEND;TZID=UTC:20250627T170000
DTSTAMP:20260424T150512
CREATED:20241128T124322Z
LAST-MODIFIED:20241128T124322Z
UID:18494-1751013120-1751043600@stokeseniors.com
SUMMARY:Wednesday Swindle - Constable
DESCRIPTION:
URL:https://stokeseniors.com/event/wednesday-swindle-constable-57/
END:VEVENT
BEGIN:VEVENT
DTSTART;TZID=UTC:20250625T080000
DTEND;TZID=UTC:20250625T170000
DTSTAMP:20260424T150512
CREATED:20241001T121110Z
LAST-MODIFIED:20250611T100150Z
UID:17255-1750838400-1750870800@stokeseniors.com
SUMMARY:Inter Club Match v Gosfield - Gainsborough
DESCRIPTION:
URL:https://stokeseniors.com/event/inter-club-match-v-gosfield-gainsborough-3/
END:VEVENT
BEGIN:VEVENT
DTSTART;TZID=UTC:20250620T083200
DTEND;TZID=UTC:20250620T170000
DTSTAMP:20260424T150512
CREATED:20241128T123334Z
LAST-MODIFIED:20241128T123334Z
UID:18452-1750408320-1750438800@stokeseniors.com
SUMMARY:Wednesday Swindle - Gainsborough
DESCRIPTION:
URL:https://stokeseniors.com/event/wednesday-swindle-gainsborough-45/
END:VEVENT
BEGIN:VEVENT
DTSTART;TZID=UTC:20250618T083200
DTEND;TZID=UTC:20250618T170000
DTSTAMP:20260424T150512
CREATED:20241001T113710Z
LAST-MODIFIED:20250616T161908Z
UID:17191-1750235520-1750266000@stokeseniors.com
SUMMARY:Monthly Stableford - Gainsborough
DESCRIPTION:
URL:https://stokeseniors.com/event/monthly-stableford-constable-12/
END:VEVENT
BEGIN:VEVENT
DTSTART;TZID=UTC:20250616T080000
DTEND;TZID=UTC:20250616T170000
DTSTAMP:20260424T150512
CREATED:20241001T121459Z
LAST-MODIFIED:20250619T100721Z
UID:17267-1750060800-1750093200@stokeseniors.com
SUMMARY:Inter Club Match v Benton Hall - Gainsborough
DESCRIPTION:
URL:https://stokeseniors.com/event/inter-club-match-v-benton-hall-constable-3/
END:VEVENT
BEGIN:VEVENT
DTSTART;TZID=UTC:20250613T083200
DTEND;TZID=UTC:20250613T170000
DTSTAMP:20260424T150512
CREATED:20241128T124258Z
LAST-MODIFIED:20241128T124258Z
UID:18492-1749803520-1749834000@stokeseniors.com
SUMMARY:Wednesday Swindle - Constable
DESCRIPTION:
URL:https://stokeseniors.com/event/wednesday-swindle-constable-56/
END:VEVENT
BEGIN:VEVENT
DTSTART;TZID=UTC:20250611T083200
DTEND;TZID=UTC:20250611T170000
DTSTAMP:20260424T150512
CREATED:20241001T102642Z
LAST-MODIFIED:20250531T084107Z
UID:17168-1749630720-1749661200@stokeseniors.com
SUMMARY:Senior's Championship - Round 2 - Constable
DESCRIPTION:
URL:https://stokeseniors.com/event/seniors-championship-round-2-gainsborough-2/
END:VEVENT
BEGIN:VEVENT
DTSTART;TZID=UTC:20250611T080000
DTEND;TZID=UTC:20250611T170000
DTSTAMP:20260424T150512
CREATED:20241001T120539Z
LAST-MODIFIED:20250528T181454Z
UID:17237-1749628800-1749661200@stokeseniors.com
SUMMARY:Inter Club Match v Felixstowe - Away
DESCRIPTION:
URL:https://stokeseniors.com/event/inter-club-match-v-felixstowe-away-3/
END:VEVENT
BEGIN:VEVENT
DTSTART;TZID=UTC:20250606T180000
DTEND;TZID=UTC:20250606T180000
DTSTAMP:20260424T150512
CREATED:20250316T103632Z
LAST-MODIFIED:20250316T103709Z
UID:19437-1749232800-1749232800@stokeseniors.com
SUMMARY:Friday Night Mixed
DESCRIPTION:
URL:https://stokeseniors.com/event/friday-night-mixed-9/
END:VEVENT
BEGIN:VEVENT
DTSTART;TZID=UTC:20250606T080000
DTEND;TZID=UTC:20250606T170000
DTSTAMP:20260424T150512
CREATED:20241001T120503Z
LAST-MODIFIED:20250519T193417Z
UID:17235-1749196800-1749229200@stokeseniors.com
SUMMARY:Inter Club Match v Frinton - Away
DESCRIPTION:
URL:https://stokeseniors.com/event/inter-club-match-v-frinton-away-3/
END:VEVENT
BEGIN:VEVENT
DTSTART;TZID=UTC:20250604T083200
DTEND;TZID=UTC:20250604T170000
DTSTAMP:20260424T150512
CREATED:20241001T102601Z
LAST-MODIFIED:20250531T083303Z
UID:17166-1749025920-1749056400@stokeseniors.com
SUMMARY:Senior's Championship - Round 1 - Gainsborough
DESCRIPTION:
URL:https://stokeseniors.com/event/seniors-championship-round-1-constable-2/
END:VEVENT
BEGIN:VEVENT
DTSTART;TZID=UTC:20250602T083200
DTEND;TZID=UTC:20250602T170000
DTSTAMP:20260424T150512
CREATED:20241128T124232Z
LAST-MODIFIED:20241128T124232Z
UID:18490-1748853120-1748883600@stokeseniors.com
SUMMARY:Wednesday Swindle - Constable
DESCRIPTION:
URL:https://stokeseniors.com/event/wednesday-swindle-constable-55/
END:VEVENT
BEGIN:VEVENT
DTSTART;TZID=UTC:20250530T083200
DTEND;TZID=UTC:20250530T170000
DTSTAMP:20260424T150512
CREATED:20241128T123303Z
LAST-MODIFIED:20241128T123303Z
UID:18450-1748593920-1748624400@stokeseniors.com
SUMMARY:Wednesday Swindle - Gainsborough
DESCRIPTION:
URL:https://stokeseniors.com/event/wednesday-swindle-gainsborough-44/
END:VEVENT
END:VCALENDAR